BEGIN:VCALENDAR
VERSION:2.0
PRODID:-//ChamberMaster//Event Calendar 2.0//EN
METHOD:PUBLISH
X-PUBLISHED-TTL:P3D
REFRESH-INTERVAL:P3D
CALSCALE:GREGORIAN
BEGIN:VEVENT
DTSTART:20210731T170000Z
DTEND:20210731T200000Z
X-MICROSOFT-CDO-ALLDAYEVENT:FALSE
SUMMARY:Wine Tasting with Russ Lorber of Wide Roots\, LLC
DESCRIPTION:Join us as we introduce to you what we believe will be possibly 3 new grapes to your palate: from Le Marche\, Sardinia and Puglia. Come meet Russ Lorber\, Importer & Founder\, Wide Roots\, as we visit these three regions with wines for you to taste. \n\nAbout the wines\, choose any 3 to taste:\n\nHiso Telaray Alberelli de la Santa Negroamaro Rosato Salento IGT 2019 - A beautiful ros  wine.  Hints of salmon in its color\, this wine bursts with fresh strawberry flavors and floral aromas\, complemented with a crisp acidity. Outside of Puglia a ros  of Negroamaro is an unusual wine that beckons the delights of the Puglian traditions.\n\nTenimenti Spinsanti "Sisto V" Spumante Brut Pecorino - A sparkler from the hottest grape in Italy. Made from 100% Pecorino grapes\, and winemaker Catia's magic touch\, this dry sparkling wine has bright acidity\, fresh apricot and pear notes\, and herbal and acacia characters. Pairs well with oysters and hard cheeses. Woman owned and produced.\n\nAudarya Nuragus di Cagliari DOC 2020 - A rare\, ancient variety difficult to find outside of Sardinia. Audarya takes great pride in its Nuragus\, a historic grape unique to southeast Sardinia.  This brilliant wine is crisp but soft\; fresh citrus and peach\, floral\, and elegant. Pair with seafood and a beach view.\n\nRocca Nero di Troia Puglia IGT 2020 - Great value\, off the beaten path. A very deep ruby red hue with notes of ripe red fruits and cherries with hints of spices and tobacco\, this wine showcases Puglia's high quality\, indigenous Nero di Troia. This wine is perfect for lamb and pork dishes!\n\n \n\nWe hope to see you at Simpatico in the courtyard to explore these amazing wines! Cin Cin!
X-ALT-DESC;FMTTYPE=text/html:<p>Join us as we introduce to you what we believe will be possibly 3 new grapes to your palate: from Le Marche\, Sardinia and Puglia. Come meet Russ Lorber\, Importer &amp\; Founder\, Wide Roots\, as we visit these three regions with wines for you to taste.&nbsp\;</p>\n\n<p>About the wines\, choose any 3 to taste:</p>\n\n<p><strong>Hiso Telaray Alberelli de la Santa Negroamaro Rosato Salento IGT 2019 - A beautiful ros&eacute\; wine.&nbsp\;</strong>&nbsp\;Hints of salmon in its color\, this wine bursts with fresh strawberry flavors and floral aromas\, complemented with a crisp acidity. Outside of Puglia a ros&eacute\; of Negroamaro is an unusual wine that beckons the delights of the Puglian traditions.</p>\n\n<p><strong>Tenimenti Spinsanti &ldquo\;Sisto V&rdquo\; Spumante Brut Pecorino</strong>&nbsp\;-&nbsp\;<em><strong>A sparkler from the hottest&nbsp\;grape in Italy.</strong></em>&nbsp\;Made from 100%&nbsp\;Pecorino grapes\, and winemaker&nbsp\;Catia&rsquo\;s magic touch\, this dry&nbsp\;sparkling wine has bright acidity\,&nbsp\;fresh apricot and pear notes\, and&nbsp\;herbal and acacia characters.&nbsp\;Pairs well with oysters and hard&nbsp\;cheeses. Woman owned and produced.</p>\n\n<p><strong>Audarya Nuragus di Cagliari DOC 2020</strong>&nbsp\;-&nbsp\;<em><strong>A rare\, ancient variety difficult to find outside of Sardinia.</strong></em>&nbsp\;Audarya takes great pride in its Nuragus\, a historic grape unique to&nbsp\;southeast Sardinia.&nbsp\;&nbsp\;This brilliant wine is crisp but soft\; fresh citrus and peach\, floral\, and elegant. Pair with seafood and a beach view.</p>\n\n<p><strong>Rocca Nero di Troia Puglia IGT 2020 -&nbsp\;</strong><em><strong>Great value\, off&nbsp\;the beaten&nbsp\;path.</strong></em>&nbsp\;A very deep ruby red hue&nbsp\;with notes of ripe red fruits and&nbsp\;cherries with hints of spices and&nbsp\;tobacco\, this wine showcases&nbsp\;Puglia&rsquo\;s high quality\, indigenous&nbsp\;Nero di Troia. This wine is perfect&nbsp\;for lamb and pork dishes!</p>\n\n<p>&nbsp\;</p>\n\n<p>We hope to see you at Simpatico in the courtyard to explore these amazing wines! Cin Cin!</p>\n
LOCATION:Simpatico Courtyard\, 104-106 Railroad Ave.
UID:e.212.20194
SEQUENCE:3
DTSTAMP:20260424T140643Z
URL:http://historic.stmichaelsmd.org/events/details/wine-tasting-with-russ-lorber-of-wide-roots-llc-20194
END:VEVENT

END:VCALENDAR
