BEGIN:VCALENDAR
VERSION:2.0
PRODID:-//ChamberMaster//Event Calendar 2.0//EN
METHOD:PUBLISH
X-PUBLISHED-TTL:P3D
REFRESH-INTERVAL:P3D
CALSCALE:GREGORIAN
BEGIN:VEVENT
DTSTART:20211006T190000Z
DTEND:20211006T210000Z
X-MICROSOFT-CDO-ALLDAYEVENT:FALSE
SUMMARY:Wine Tasting Cruises
DESCRIPTION:Discover Wine Tasting on a Sail Boat!\n\nAvailable with prior reservations\, our 2 hour wine tasting cruises include:\n\n\n	An introduction to the basics of wine tasting\,\n	Sampling 3 reds and 3 whites\, (This year is a mix of California offerings with an Italian Montepulciano and Pinot Grigio thrown in to add an international flair)\n	We finish by enjoying a full glass of your favorite wine.\n	Limited to just six guests for an intimate experience \n\n\nWe serve wines from around the world with a constantly changing selection based on the most recent of Capt Iris' favorites.\n\n\n	$95 per person\, minimum 2 guests\n	Private charter up to 6 guests $545\n\n\nPlus there is a 10% amusement tax in St. Michaels harbor\, and a 20% tip for the crew.\n\nWine Cruises are available Mon-thurs Sept 12:30-2:30pm and 3:00-5:00pm. In Oct 11:30-1:30 & 2:00-4:00.
X-ALT-DESC;FMTTYPE=text/html:<h2>Discover Wine Tasting on a Sail Boat!</h2>\n\n<p>Available with prior reservations\, our 2 hour wine tasting cruises include:</p>\n\n<ul>\n	<li>An introduction to the basics of wine tasting\,</li>\n	<li>Sampling 3 reds and 3 whites\, (This year is a mix of California offerings with an Italian Montepulciano and Pinot Grigio thrown in to add an international flair)</li>\n	<li>We finish by enjoying a full glass of your favorite wine.</li>\n	<li>Limited to just six guests for an intimate experience&nbsp\;</li>\n</ul>\n\n<p>We serve wines from around the world with a constantly changing selection based on the most recent of Capt Iris&rsquo\; favorites.</p>\n\n<ul>\n	<li>$95 per person\, minimum 2 guests</li>\n	<li>Private charter up to 6 guests $545</li>\n</ul>\n\n<p>Plus there is a 10% amusement tax in St. Michaels harbor\, and a 20% tip for the crew.</p>\n\n<p>Wine Cruises are available Mon-thurs Sept 12:30-2:30pm and 3:00-5:00pm. In Oct 11:30-1:30 &amp\; 2:00-4:00.</p>\n
LOCATION:Sail Selina II 101 North Harbor Road St Michaels MD 21663
UID:e.212.20209
SEQUENCE:3
DTSTAMP:20260424T081043Z
URL:http://historic.stmichaelsmd.org/events/details/wine-tasting-cruises-10-06-2021-20209
END:VEVENT

END:VCALENDAR
