BEGIN:VCALENDAR
VERSION:2.0
PRODID:-//ChamberMaster//Event Calendar 2.0//EN
METHOD:PUBLISH
X-PUBLISHED-TTL:P3D
REFRESH-INTERVAL:P3D
CALSCALE:GREGORIAN
BEGIN:VEVENT
DTSTART;VALUE=DATE:20190811
DTEND;VALUE=DATE:20190812
TRANSP:TRANSPARENT
X-MICROSOFT-CDO-ALLDAYEVENT:TRUE
SUMMARY:Watermen’s Appreciation Day with Boat Docking Contest\, Steamed Crabs
DESCRIPTION:On Sunday\, August 11\, 2019\, the 10th annual Watermen's Appreciation Day comes to the Chesapeake Bay Maritime Museum in St. Michaels\, Md.\, featuring a spirited boat docking contest\, steamed crabs and other regional food\, live music\, beer\, boat rides\, family activities\, and more. The fundraising event is organized by CBMM in cooperation with the Talbot Watermen Association\, with proceeds benefiting both organizations.\n\nBeginning at noon\, the event's "watermen's rodeo" boat docking contest returns to the Miles River near CBMM's 1879 Hooper Strait Lighthouse. Bleacher seating will be provided for spectators to the contest.
X-ALT-DESC;FMTTYPE=text/html:<p>On Sunday\, August 11\, 2019\, the 10th annual Watermen&rsquo\;s Appreciation Day comes to the Chesapeake Bay Maritime Museum in St. Michaels\, Md.\, featuring a spirited boat docking contest\, steamed crabs and other regional food\, live music\, beer\, boat rides\, family activities\, and more. The fundraising event is organized by CBMM in cooperation with the Talbot Watermen Association\, with proceeds benefiting both organizations.</p>\n\n<p>Beginning at noon\, the event&rsquo\;s &ldquo\;watermen&rsquo\;s rodeo&rdquo\; boat docking contest returns to the Miles River near CBMM&rsquo\;s 1879 Hooper Strait Lighthouse. Bleacher seating will be provided for spectators to the contest.</p>\n
LOCATION:Chesapeake Bay Maritime Museum 213 N. Talbot Street St. Michaels\, MD 21663
UID:e.212.16838
SEQUENCE:3
DTSTAMP:20260426T012724Z
URL:http://historic.stmichaelsmd.org/events/details/watermen-s-appreciation-day-with-boat-docking-contest-steamed-crabs-16838
END:VEVENT

END:VCALENDAR
