BEGIN:VCALENDAR
VERSION:2.0
PRODID:-//ChamberMaster//Event Calendar 2.0//EN
METHOD:PUBLISH
X-PUBLISHED-TTL:P3D
REFRESH-INTERVAL:P3D
CALSCALE:GREGORIAN
BEGIN:VEVENT
DTSTART:20231021T160000Z
DTEND:20231021T200000Z
X-MICROSOFT-CDO-ALLDAYEVENT:FALSE
SUMMARY:Wag-O-Ween October 21
DESCRIPTION:New this year during the Fall into St. Michaels events\, the inaugural Wag-O-Ween\, will be held at The Preppy Redneck's back parking lot on Saturday\, October 21 starting at noon.  There will be a dog costume contest\, photos and a doggie trick-or treat at participating businesses\, pick up your information at Wag-O-Ween Headquarters.   A kick off party will be held at Foxy's Harbor Grill on Friday night from 4pm-6pm and again on Saturday from 12pm-3pm.
X-ALT-DESC;FMTTYPE=text/html:<span style="font-family: arial\, helvetica\, sans-serif\; font-size: 14px\;">New this year during the Fall into St. Michaels events\, the inaugural Wag-O-Ween\, will be held at The Preppy Redneck&#39\;s back parking lot&nbsp\;on Saturday\, October 21 starting at noon.&nbsp\; There will be a dog costume contest\, photos and a doggie trick-or treat at participating businesses\, pick up your information at Wag-O-Ween Headquarters.&nbsp\; &nbsp\;A kick off party will be held at Foxy&#39\;s Harbor Grill&nbsp\;on Friday night from 4pm-6pm and again on Saturday from 12pm-3pm.</span>
LOCATION:The Preppy Redneck (back parking lot) 213 S. Talbot Street St. Michaels\, MD 21663
UID:e.212.24462
SEQUENCE:3
DTSTAMP:20260422T154759Z
URL:http://historic.stmichaelsmd.org/events/details/wag-o-ween-october-21-24462
END:VEVENT

END:VCALENDAR
