BEGIN:VCALENDAR
VERSION:2.0
PRODID:-//ChamberMaster//Event Calendar 2.0//EN
METHOD:PUBLISH
X-PUBLISHED-TTL:P3D
REFRESH-INTERVAL:P3D
CALSCALE:GREGORIAN
BEGIN:VEVENT
DTSTART:20240426T043000Z
DTEND:20240428T120000Z
X-MICROSOFT-CDO-ALLDAYEVENT:FALSE
SUMMARY:VIP WineFest 2024
DESCRIPTION:We are pleased to announce WineFest 2024!\n\nWe are bringing back WineFest 2024.\n\nWine will be tasted from many countries around the world!\n\nWine will be poured\, memories will be made and you may just leave with a new favorite!\n\nThis VIP event will be held at the Old Brick Inn in the beautiful town of St. Michaels\, Maryland on April 27 & 28th.  If you have experienced Winefest before and have been excited about its return\, we hope you join us for this VIP Winefest 2024. We are sure you will find it even better!\n\n \n\nEvent Description: \n\nEach day there will be two groups attending two separate tastings\, that's 4 sessions total! \n\nAround 10-12 wines tasted each session! As you taste\, you will be able to compare and discuss taste profiles with the staff and some of the industries best!\n\nAll of the wines tasted will be available for purchase at special WineFest pricing both Saturday and Sunday. Some of the wines tasted are often not available elsewhere! \n\nMore information and tickets are available for purchase at www.winefestatstmichaels.com.\n\nThis event will permit many of the wine reps\, winemakers\, and winery owners to present their wines in person! This allows them to share their personal stories and to answer questions you may have about wines in their portfolio!\n\n\n\nSince this is a VIP event\, tickets will be limited!. This festival will sell out quickly. \n\n \n\nFor more information please call Ashlee or Travis at 410-745-3323 or innkeepers@oldbrickinn.com
X-ALT-DESC;FMTTYPE=text/html:<p><strong><u>We are pleased to announce WineFest 2024</u></strong><u>!</u></p>\n\n<p>We are bringing back WineFest 2024.</p>\n\n<p>Wine will be tasted from many countries around the world!</p>\n\n<p>Wine will be poured\, memories will be made and you may just leave with a new favorite!</p>\n\n<p>This VIP event will be held at the Old Brick Inn in the beautiful town of St. Michaels\, Maryland on April 27 &amp\; 28th.&nbsp\;&nbsp\;If you have experienced Winefest before and have been excited about its return\, we hope you join us for this VIP Winefest 2024. We are sure you will find it even better!</p>\n\n<p>&nbsp\;</p>\n\n<p><strong><u>Event Description:&nbsp\;</u></strong></p>\n\n<p>Each day there will be two groups attending two separate tastings\, that&rsquo\;s 4 sessions total!&nbsp\;</p>\n\n<p>Around 10-12 wines tasted each session! As you taste\, you will be able to compare and discuss taste profiles with the staff and some of the industries best!</p>\n\n<p>All of the wines tasted will be available for purchase at special WineFest pricing both Saturday and Sunday.&nbsp\;Some of the wines tasted are often not available elsewhere!&nbsp\;</p>\n\n<p>More information and tickets are available for purchase at www.winefestatstmichaels.com.</p>\n\n<p style="text-align:justify">This event will permit many of the wine reps\, winemakers\, and winery owners to present their wines in person! This allows them to share their personal stories and to answer questions you may have about wines in their portfolio!<br />\n<br />\n<span style="font-size:12px"><strong>Since this is a VIP event\, tickets will be limited!.&nbsp\;This festival will sell out quickly.&nbsp\;</strong><br />\n&nbsp\;<br />\nFor more information please call Ashlee or Travis at 410-745-3323 or innkeepers@oldbrickinn.com</span></p>\n
LOCATION:Old Brick Inn Properties 401 S. Talbot St. Michaels\, Maryland 21663
UID:e.212.25226
SEQUENCE:3
DTSTAMP:20260422T055904Z
URL:http://historic.stmichaelsmd.org/events/details/vip-winefest-2024-25226
END:VEVENT

END:VCALENDAR
