BEGIN:VCALENDAR
VERSION:2.0
PRODID:-//ChamberMaster//Event Calendar 2.0//EN
METHOD:PUBLISH
X-PUBLISHED-TTL:P3D
REFRESH-INTERVAL:P3D
CALSCALE:GREGORIAN
BEGIN:VEVENT
DTSTART;VALUE=DATE:20250214
DTEND;VALUE=DATE:20250216
TRANSP:TRANSPARENT
X-MICROSOFT-CDO-ALLDAYEVENT:TRUE
SUMMARY:Valentine's Day Weekend at The Fool's Lantern
DESCRIPTION:Valentine's Day Special at The Fool's Lantern\n\nCelebrate love (and food!) this Valentine's weekend with our Dinner for Two special:\n\n$100 includes:\n\n\n	Your choice of a shareable (excluding tenderloin/crabcake sliders)\, dip\, or 2 desserts\n	2 dinner entrees (double filets\, double crabcakes\, or surf & turf)\n	A select bottle of wine ??\n\n\nMake it a perfect date night by staying for Survey Sez at 7 PM! ??
X-ALT-DESC;FMTTYPE=text/html:<p><span style="font-family:verdana"><strong>Valentine&rsquo\;s Day Special at The Fool&rsquo\;s Lantern</strong></span></p>\n\n<p><span style="font-family:verdana">Celebrate love (and food!) this Valentine&rsquo\;s weekend with our&nbsp\;<strong>Dinner for Two</strong>&nbsp\;special:</span></p>\n\n<p><span style="font-family:verdana"><strong>$100</strong>&nbsp\;includes:</span></p>\n\n<ul>\n	<li><span style="font-family:verdana">Your choice of a shareable (excluding tenderloin/crabcake sliders)\, dip\, or 2 desserts</span></li>\n	<li><span style="font-family:verdana">2 dinner entrees (double filets\, double crabcakes\, or surf &amp\; turf)</span></li>\n	<li><span style="font-family:verdana">A select bottle of wine ??</span></li>\n</ul>\n\n<p><span style="font-family:verdana">Make it a perfect date night by staying for&nbsp\;<strong>Survey Sez</strong>&nbsp\;at 7 PM! ??</span></p>\n
LOCATION:The Fool's Lantern 310 S. Talbot Street Saint Michaels\, MD
UID:e.212.33947
SEQUENCE:3
DTSTAMP:20260421T132951Z
URL:http://historic.stmichaelsmd.org/events/details/valentine-s-day-weekend-at-the-fool-s-lantern-33947
END:VEVENT

END:VCALENDAR
