BEGIN:VCALENDAR
VERSION:2.0
PRODID:-//ChamberMaster//Event Calendar 2.0//EN
METHOD:PUBLISH
X-PUBLISHED-TTL:P3D
REFRESH-INTERVAL:P3D
CALSCALE:GREGORIAN
BEGIN:VEVENT
DTSTART:20240214T200000Z
DTEND:20240214T220000Z
X-MICROSOFT-CDO-ALLDAYEVENT:FALSE
SUMMARY:Valentine Date Night Take Home Dinner for 2!
DESCRIPTION:Valentine Date Night Take Home Dinner for 2!\n\nValentine Date Night Take Home Dinner for 2 - Available for PICK UP Wednesday\, February 14th after 3pm\n\nA full meal for 2 available with or without paired wines - NO cooking required!
X-ALT-DESC;FMTTYPE=text/html:<h1 style="text-align:center">Valentine Date Night Take Home Dinner for 2!</h1>\n\n<p><strong>Valentine Date Night Take Home Dinner for 2 - Available for PICK UP Wednesday\, February 14th after 3pm</strong></p>\n\n<p><strong>A full meal for 2 available with or without paired wines - NO cooking required!</strong></p>\n\n<div>&nbsp\;</div>\n
LOCATION:We will provide all the food courses\, preparation instructions for pickup at Simpatico on Wednesday\, February 14th after 3pm.
UID:e.212.25225
SEQUENCE:3
DTSTAMP:20260422T090941Z
URL:http://historic.stmichaelsmd.org/events/details/valentine-date-night-take-home-dinner-for-2-25225
END:VEVENT

END:VCALENDAR
