BEGIN:VCALENDAR
VERSION:2.0
PRODID:-//ChamberMaster//Event Calendar 2.0//EN
METHOD:PUBLISH
X-PUBLISHED-TTL:P3D
REFRESH-INTERVAL:P3D
CALSCALE:GREGORIAN
BEGIN:VEVENT
DTSTART:20220704T180000Z
DTEND:20220704T210000Z
X-MICROSOFT-CDO-ALLDAYEVENT:FALSE
SUMMARY:Uncle Ward\, LIVE @ Foxy's!
DESCRIPTION:Spend your 4th of JULY with us!\n\nIf you don't know him\, you should. Uncle Ward always brings the fun! Prepare your liver for a good time.
X-ALT-DESC;FMTTYPE=text/html:<div>Spend your 4th of JULY with us!</div>\n\n<div>If you don&#39\;t know him\, you should. Uncle Ward always brings the fun! Prepare your liver for a good time.</div>\n
LOCATION:Foxy's Harbor Grille
UID:e.212.21101
SEQUENCE:3
DTSTAMP:20260423T182034Z
URL:http://historic.stmichaelsmd.org/events/details/uncle-ward-live-foxy-s-21101
END:VEVENT

END:VCALENDAR
