BEGIN:VCALENDAR
VERSION:2.0
PRODID:-//ChamberMaster//Event Calendar 2.0//EN
METHOD:PUBLISH
X-PUBLISHED-TTL:P3D
REFRESH-INTERVAL:P3D
CALSCALE:GREGORIAN
BEGIN:VEVENT
DTSTART:20230401T220000Z
DTEND:20230402T010000Z
X-MICROSOFT-CDO-ALLDAYEVENT:FALSE
SUMMARY:Tuscany Zoom Wine Dinner Event with Davide Megna of Impero Wines
DESCRIPTION:Tuscany Zoom Wine Dinner with Davide Megna of Impero Wines April 1st\n\nPlease join us with our Italian co-host Davide Megna of Impero Wines as we introduce you to exclusive wines from Fabulous Wineries in Tuscany paired with fabulous dishes of the region.\n\nAnother fun and informative evening exploring Italian Wines! Salute!
X-ALT-DESC;FMTTYPE=text/html:<div>Tuscany Zoom Wine Dinner with Davide Megna of Impero Wines April 1st</div>\n\n<div>Please join us with our Italian co-host Davide Megna of Impero Wines as we introduce you to exclusive wines from Fabulous Wineries in Tuscany paired with fabulous dishes of the region.<br />\nAnother fun and informative evening exploring Italian Wines! Salute!</div>\n
LOCATION:Zoom
UID:e.212.23349
SEQUENCE:3
DTSTAMP:20260423T054121Z
URL:http://historic.stmichaelsmd.org/events/details/tuscany-zoom-wine-dinner-event-with-davide-megna-of-impero-wines-23349
END:VEVENT

END:VCALENDAR
