BEGIN:VCALENDAR
VERSION:2.0
PRODID:-//ChamberMaster//Event Calendar 2.0//EN
METHOD:PUBLISH
X-PUBLISHED-TTL:P3D
REFRESH-INTERVAL:P3D
CALSCALE:GREGORIAN
BEGIN:VEVENT
DTSTART:20221203T050000Z
DTEND:20221203T050000Z
X-MICROSOFT-CDO-ALLDAYEVENT:FALSE
SUMMARY:Tito's Ugly Sweater Party @ Foxy's!
DESCRIPTION:Its time to break out those ugly Christmas sweaters & party with us! The guest who shows up with the ugliest sweater will win an OFFICIAL TITOS ugly sweater! Come hang with Tito's promo models\, enjoy exclusive drink specials\, & stick around after 7 for LIVE entertainment!!
X-ALT-DESC;FMTTYPE=text/html:<span style="background-color:rgb(255\, 255\, 255)\; color:rgb(5\, 5\, 5)\; font-family:segoe ui historic\,segoe ui\,helvetica\,arial\,sans-serif\; font-size:15px">Its time to break out those ugly Christmas sweaters &amp\; party with us! The guest who shows up with the ugliest sweater will win an OFFICIAL TITOS ugly sweater! Come hang with Tito&#39\;s promo models\, enjoy exclusive drink specials\, &amp\; stick around after 7 for LIVE entertainment!!</span>
LOCATION:
UID:e.212.23321
SEQUENCE:3
DTSTAMP:20260423T104338Z
URL:http://historic.stmichaelsmd.org/events/details/tito-s-ugly-sweater-party-foxy-s-23321
END:VEVENT

END:VCALENDAR
