BEGIN:VCALENDAR
VERSION:2.0
PRODID:-//ChamberMaster//Event Calendar 2.0//EN
METHOD:PUBLISH
X-PUBLISHED-TTL:P3D
REFRESH-INTERVAL:P3D
CALSCALE:GREGORIAN
BEGIN:VEVENT
DTSTART:20220629T200000Z
DTEND:20220703T220000Z
X-MICROSOFT-CDO-ALLDAYEVENT:FALSE
SUMMARY:Theo's Happy Hour Wed - Sun 4pm - 6pm
DESCRIPTION:Theo's Happy Hour\n\nEVERY WEDNESDAY - SUNDAY\n\nFROM 4 TO 6 PM\n\nEnjoy $2 off all beer\, wine & cocktails\n\nduring Theo's Happy Hour.\n\nNosh on featured happy hour food items like the\n\n  BACK NINE BURGER  \n\na 4oz burger with fries for only $9.
X-ALT-DESC;FMTTYPE=text/html:<p class="x_text-build-content" style="margin: 10px 0px\; color: rgb(0\, 0\, 0)\; font-family: Arial\, sans-serif\; font-size: 20px\; line-height: 32px\; text-align: center\;"><span style="font-size:14px\;"><span style="font-family:arial\;"><span style="border: 0px\; font-style: inherit\; font-variant: inherit\; font-weight: inherit\; font-stretch: inherit\; line-height: inherit\; margin: 0px\; padding: 0px\; vertical-align: baseline\; color: inherit\;"><b>Theo&#39\;s Happy Hour<br />\nEVERY WEDNESDAY - SUNDAY</b></span></span></span></p>\n\n<p class="x_text-build-content" style="margin: 10px 0px\; color: rgb(0\, 0\, 0)\; font-family: Arial\, sans-serif\; font-size: 20px\; line-height: 32px\; text-align: center\;"><span style="font-size:14px\;"><span style="font-family:arial\;"><span style="border: 0px\; font-style: inherit\; font-variant: inherit\; font-weight: inherit\; font-stretch: inherit\; line-height: inherit\; margin: 0px\; padding: 0px\; vertical-align: baseline\; color: inherit\;"><b>FROM 4 TO 6 PM</b></span></span></span></p>\n\n<p class="x_text-build-content" style="margin: 10px 0px\; color: rgb(0\, 0\, 0)\; font-family: Arial\, sans-serif\; font-size: 20px\; line-height: 32px\; text-align: center\;"><span style="font-size:14px\;"><span style="font-family:arial\;"><span style="border: 0px\; font-style: inherit\; font-variant: inherit\; font-weight: inherit\; font-stretch: inherit\; line-height: inherit\; margin: 0px\; padding: 0px\; vertical-align: baseline\; color: inherit\;">Enjoy $2 off all beer\, wine &amp\; cocktails</span></span></span></p>\n\n<p class="x_text-build-content" style="margin: 10px 0px\; color: rgb(0\, 0\, 0)\; font-family: Arial\, sans-serif\; font-size: 20px\; line-height: 32px\; text-align: center\;"><span style="font-size:14px\;"><span style="font-family:arial\;"><span style="border: 0px\; font-style: inherit\; font-variant: inherit\; font-weight: inherit\; font-stretch: inherit\; line-height: inherit\; margin: 0px\; padding: 0px\; vertical-align: baseline\; color: inherit\;">during Theo&#39\;s Happy Hour.</span></span></span></p>\n\n<p class="x_text-build-content" style="margin: 10px 0px\; color: rgb(0\, 0\, 0)\; font-family: Arial\, sans-serif\; font-size: 20px\; line-height: 32px\; text-align: center\;"><span style="font-size:14px\;"><span style="font-family:arial\;"><span style="border: 0px\; font-style: inherit\; font-variant: inherit\; font-weight: inherit\; font-stretch: inherit\; line-height: inherit\; margin: 0px\; padding: 0px\; vertical-align: baseline\; color: inherit\;">Nosh on featured happy hour food items like the</span></span></span></p>\n\n<p class="x_text-build-content" style="margin: 10px 0px\; color: rgb(0\, 0\, 0)\; font-family: Arial\, sans-serif\; font-size: 20px\; line-height: 32px\; text-align: center\;"><span style="font-size:14px\;"><span style="font-family:arial\;"><span style="border: 0px\; font-style: inherit\; font-variant: inherit\; font-weight: inherit\; font-stretch: inherit\; line-height: inherit\; margin: 0px\; padding: 0px\; vertical-align: baseline\; color: inherit\;"><b>&lt\; BACK NINE BURGER &gt\;</b></span></span></span></p>\n\n<p class="x_text-build-content" style="margin: 10px 0px\; color: rgb(0\, 0\, 0)\; font-family: Arial\, sans-serif\; font-size: 20px\; line-height: 32px\; text-align: center\;"><span style="font-size:14px\;"><span style="font-family:arial\;"><span style="border: 0px\; font-style: inherit\; font-variant: inherit\; font-weight: inherit\; font-stretch: inherit\; line-height: inherit\; margin: 0px\; padding: 0px\; vertical-align: baseline\; color: inherit\;">a 4oz burger with fries for only $9.</span></span></span></p>\n
LOCATION:407 S. Talbot Street\, St. Michaels\, MD 21663
UID:e.212.21703
SEQUENCE:3
DTSTAMP:20260423T182148Z
URL:http://historic.stmichaelsmd.org/events/details/theo-s-happy-hour-wed-sun-4pm-6pm-21703
END:VEVENT

END:VCALENDAR
