BEGIN:VCALENDAR
VERSION:2.0
PRODID:-//ChamberMaster//Event Calendar 2.0//EN
METHOD:PUBLISH
X-PUBLISHED-TTL:P3D
REFRESH-INTERVAL:P3D
CALSCALE:GREGORIAN
BEGIN:VEVENT
DTSTART:20220717T200000Z
DTEND:20220717T230000Z
X-MICROSOFT-CDO-ALLDAYEVENT:FALSE
SUMMARY:The Wye River Band\, LIVE @ Foxys!
DESCRIPTION:Its Sunday Funday & we invite you to join us in welcoming The Wye River Band for their first performance @ Foxy's!\n\nJim\, Larry\, Mike\, & Dave will step up to the mic to entertain and keep the party rockin' on!
X-ALT-DESC;FMTTYPE=text/html:Its Sunday Funday &amp\; we invite you to join us in welcoming The Wye River Band for their first performance @ Foxy&#39\;s!<br />\nJim\, Larry\, Mike\, &amp\; Dave will step up to the mic to entertain and keep the party rockin&rsquo\; on!
LOCATION:Foxy's Harbor Grille
UID:e.212.21717
SEQUENCE:3
DTSTAMP:20260423T182149Z
URL:http://historic.stmichaelsmd.org/events/details/the-wye-river-band-live-foxys-21717
END:VEVENT

END:VCALENDAR
