BEGIN:VCALENDAR
VERSION:2.0
PRODID:-//ChamberMaster//Event Calendar 2.0//EN
METHOD:PUBLISH
X-PUBLISHED-TTL:P3D
REFRESH-INTERVAL:P3D
CALSCALE:GREGORIAN
BEGIN:VEVENT
DTSTART:20231011T210000Z
DTEND:20231012T000000Z
X-MICROSOFT-CDO-ALLDAYEVENT:FALSE
SUMMARY:The Oak Room - Burger Night
DESCRIPTION:Burger Night at The Oak Room\, in The Oaks Waterfront Hotel.  Gourmet Burgers and Signature Cocktails.  Call for Reservations. 410.745.5053\, press 1.
X-ALT-DESC;FMTTYPE=text/html:Burger Night at The Oak Room\, in The Oaks Waterfront Hotel.&nbsp\; Gourmet Burgers and Signature Cocktails.&nbsp\; Call for Reservations. 410.745.5053\, press 1.
LOCATION:The Oaks Waterfront Hotel
UID:e.212.24461
SEQUENCE:3
DTSTAMP:20260422T165241Z
URL:http://historic.stmichaelsmd.org/events/details/the-oak-room-burger-night-24461
END:VEVENT

END:VCALENDAR
