BEGIN:VCALENDAR
VERSION:2.0
PRODID:-//ChamberMaster//Event Calendar 2.0//EN
METHOD:PUBLISH
X-PUBLISHED-TTL:P3D
REFRESH-INTERVAL:P3D
CALSCALE:GREGORIAN
BEGIN:VEVENT
DTSTART:20231227T220000Z
DTEND:20231228T010000Z
X-MICROSOFT-CDO-ALLDAYEVENT:FALSE
SUMMARY:The Oak Room - Burger Night
DESCRIPTION:Burger Night at The Oak Room\, in The Oaks Waterfront Hotel. \n\nGourmet Burgers and Signature Cocktails. \n\nCall for Reservations at 410.745.5053.  Reservations are not required.
X-ALT-DESC;FMTTYPE=text/html:Burger Night at The Oak Room\, in The Oaks Waterfront Hotel.&nbsp\;<br />\nGourmet Burgers and Signature Cocktails.&nbsp\;<br />\nCall for Reservations at 410.745.5053.&nbsp\; Reservations are not required.
LOCATION:The Oaks Waterfront Hotel
UID:e.212.24609
SEQUENCE:3
DTSTAMP:20260422T134908Z
URL:http://historic.stmichaelsmd.org/events/details/the-oak-room-burger-night-12-27-2023-24609
END:VEVENT

END:VCALENDAR
