BEGIN:VCALENDAR
VERSION:2.0
PRODID:-//ChamberMaster//Event Calendar 2.0//EN
METHOD:PUBLISH
X-PUBLISHED-TTL:P3D
REFRESH-INTERVAL:P3D
CALSCALE:GREGORIAN
BEGIN:VEVENT
DTSTART:20210916T220000Z
DTEND:20210917T010000Z
X-MICROSOFT-CDO-ALLDAYEVENT:FALSE
SUMMARY:The Galley - Psychic Medium Event
DESCRIPTION:Terry Kociolek and The Galley Restaurant\, St. Michaels\, MD invite you for\n\nDinner and an Evening with a Psychic Medium\n\nThursday\, 16 September 2021 6:00 p.m.\n\nTerry Kociolek\, is a native Marylander\, has been serving others with her gift since 2008.  Terry's acute sensitivity to spirit is a gift that has passed down by generations of women in her family.  When her mother became ill\, she encouraged Terry to use her gifts to help others.  So\, they made a pact!  They agreed upon what her mother would do after she passed to let Terry know she is still with her.  The evening Terry's mother passed away\, the task was completed\, and Terry started sharing with others about her gift. Terry has never advertised.  Terry believes everyone can connect with spirit.  During her readings\, Terry often shares her tips so others may tune into their own gifts. You will hear Terry say at her readings\, "I work for Spirit\, they don't work for me!".  Spirit decides who will come through.  The messages that are delivered are intentionally given by Spirit to those who need them the most.\n\nTerry feels truly honored that Spirit uses her to convey messages to their living loved ones.\n\nTerry also volunteers as a Forensic Medium for a private investigator in Colorado\, this is her give back to Spirit for giving her her gift. Terry has also worked to fine tune her gift and has studied with both Lisa Williams and James Van Pragg\n\nUltimately\, Terry hopes you will come to know that your loved ones are always nearby.\n\n \n\n\nDinner Choices:\n\nAhi Tuna                                             Beef Short Ribs\n\n                 Chicken Pot Pie                                              Coconut Shrimp\n\nAll served with House Salad\, Warm Bread and Chef's Choice Dessert\, Coffee\, Iced Tea and Soft Drinks\n\n\n  Alcoholic Beverages are not included but can be purchased at the event.\n\nTicket Price:  $100.00 for the evening.  Tickets are NOT confirmed until payment has been received.  Payment is due within 3 days of reservation or your seat will be released.  Seating is limited.\n\n                                   \n\nTickets are by PREPAID reservation only!  No payment will be accepted at the door!\n\n \n\nPayment can be made by using the Venmo\, made payable to Teresa Kociolek (0752).  Tickets available on Eventbrite if you would like to pay by credit card.  If you would prefer to pay by Zelle or another method\, please email us at readingswithterry@gmail.com.  Please include the names of those attending with you if you are purchasing more than one ticket!  Also\, include your entr e choice for dinner when making your ticket purchase.  Tickets are also available on Eventbrite Dinner with Psychic Medium Terry Kociolek Tickets\, Thu\, Sep 16\, 2021 at 6:00 PM | Eventbrite\n\n \n\nTickets are non-refundable but are transferable to another person of your choosing   Please notify us if you are transferring your tickets. \n\n \n\nDisclaimer:  We ask that you please understand that not everyone will receive a reading at this event\, it is all up to Spirit.  By booking and paying for your ticket\, you agree to not hold Terry Kociolek responsible for any information that is shared with you\, nor will hold her responsible for your reactions or actions based on the information shared.\n\nDoors open at 6:00 for registration\, followed by dinner and then Terry's readings.\n\nThe Galley Restaurant\, L.L.C.\n\n410-200-8572\n\n305 S Talbot Street\n\nSaint Michaels\, MD 21664\n\neat@thegalleysaintmichaels.com
X-ALT-DESC;FMTTYPE=text/html:<p align="center" class="yiv3020193713MsoNormal" style="color: rgb(29\, 34\, 40)\; text-align: center\; margin: 0in 0in 8pt\; line-height: 15.6933px\; font-size: 11pt\; font-family: Calibri\, sans-serif\;"><span style="color:#000000\;"><span style="font-size:16px\;"><b><span style="line-height: 28.5333px\; font-family: sans-serif\;">Terry Kociolek and The Galley Restaurant\, St. Michaels\, MD invite you for<br />\nDinner and an Evening with a Psychic Medium</span></b></span></span></p>\n\n<p align="center" class="yiv3020193713MsoNormal" style="color: rgb(29\, 34\, 40)\; text-align: center\; margin: 0in 0in 8pt\; line-height: 15.6933px\; font-size: 11pt\; font-family: Calibri\, sans-serif\;"><b><span style="font-size: 10pt\; line-height: 14.2667px\; font-family: serif\;">Thursday\, 16 September 2021 6:00 p.m.</span></b></p>\n\n<p align="center" class="yiv3020193713MsoNormal" style="color: rgb(29\, 34\, 40)\; margin: 0in\; text-align: center\; line-height: normal\; background-image: initial\; background-position: initial\; background-size: initial\; background-repeat: initial\; font-size: 11pt\; font-family: Calibri\, sans-serif\;"><b><span style="font-size: 10pt\; font-family: serif\; color: black\;">Terry Kociolek</span></b><span style="font-size: 10pt\; font-family: serif\; color: black\;">\, is a native Marylander\, has been serving others with her gift since 2008.&nbsp\; Terry&#39\;s acute sensitivity to spirit is a gift that has passed down by generations of women in her family.&nbsp\; When her mother became ill\, she encouraged Terry to use her gifts to help others.&nbsp\; So\, they made a pact!&nbsp\; They agreed upon what her mother would do after she passed to let Terry know she is still with her.&nbsp\; The evening Terry&#39\;s mother passed away\, the task was completed\, and Terry started&nbsp\;</span><span style="font-size: 10pt\; font-family: serif\; color: black\;">sharing with&nbsp\;</span><span style="font-size: 10pt\; font-family: serif\; color: black\;">others about her gift. Terry has never advertised.&nbsp\; Terry believes everyone can connect with spirit.&nbsp\; During her readings\, Terry often shares her tips so others may tune into their own gifts. You will hear Terry say at her readings\, &quot\;I work for Spirit\, they don&#39\;t work for me!&quot\;.&nbsp\; Spirit decides who will come through.&nbsp\; The messages that are delivered are intentionally given by Spirit to those who need them the most.</span></p>\n\n<p align="center" class="yiv3020193713MsoNormal" style="color: rgb(29\, 34\, 40)\; margin: 0in\; text-align: center\; line-height: normal\; background-image: initial\; background-position: initial\; background-size: initial\; background-repeat: initial\; font-size: 11pt\; font-family: Calibri\, sans-serif\;"><span style="font-size: 10pt\; font-family: serif\; color: black\;">Terry feels truly honored that Spirit uses her to convey messages to their living loved ones.</span></p>\n\n<p align="center" class="yiv3020193713MsoNormal" style="color: rgb(29\, 34\, 40)\; margin: 0in\; text-align: center\; line-height: normal\; background-image: initial\; background-position: initial\; background-size: initial\; background-repeat: initial\; font-size: 11pt\; font-family: Calibri\, sans-serif\;"><span style="font-size: 10pt\; font-family: serif\; color: black\;">Terry also volunteers as a Forensic Medium for a private investigator in Colorado\, this is her give back to Spirit for giving her her gift. Terry has also worked to fine tune her gift and has studied with both Lisa Williams and James Van Pragg</span></p>\n\n<p align="center" class="yiv3020193713MsoNormal" style="color: rgb(29\, 34\, 40)\; margin: 0in\; text-align: center\; line-height: normal\; background-image: initial\; background-position: initial\; background-size: initial\; background-repeat: initial\; font-size: 11pt\; font-family: Calibri\, sans-serif\;"><span style="font-size: 10pt\; font-family: serif\; color: black\;">Ultimately\, Terry hopes you will come to know that your loved ones are always nearby.</span></p>\n\n<p align="center" class="yiv3020193713MsoNormal" style="color: rgb(29\, 34\, 40)\; margin: 0in\; text-align: center\; line-height: normal\; background-image: initial\; background-position: initial\; background-size: initial\; background-repeat: initial\; font-size: 11pt\; font-family: Calibri\, sans-serif\;"><span style="font-size: 10pt\; font-family: serif\; color: black\;">&nbsp\;</span></p>\n\n<div style="color: rgb(29\, 34\, 40)\; font-family: &quot\;Helvetica Neue&quot\;\, Helvetica\, Arial\, sans-serif\; border-top: none\; border-right: none\; border-left: none\; border-bottom: 1pt solid windowtext\; padding: 0in 0in 1pt\;">\n<p align="center" class="yiv3020193713MsoNormal" style="text-align: center\; border: none\; padding: 0in\; margin: 0in 0in 8pt\; line-height: 15.6933px\; font-size: 11pt\; font-family: Calibri\, sans-serif\;"><b><span style="font-size: 10pt\; line-height: 14.2667px\; font-family: serif\; color: rgb(68\, 114\, 196)\; background-image: initial\; background-position: initial\; background-size: initial\; background-repeat: initial\;">Dinner Choices:</span></b></p>\n\n<p align="center" class="yiv3020193713MsoNormal" style="text-align: center\; border: none\; padding: 0in\; margin: 0in 0in 8pt\; line-height: 15.6933px\; font-size: 11pt\; font-family: Calibri\, sans-serif\;"><span style="font-size: 10pt\; line-height: 14.2667px\; font-family: serif\; color: rgb(5\, 5\, 5)\; background-image: initial\; background-position: initial\; background-size: initial\; background-repeat: initial\;">Ahi Tuna &nbsp\;&nbsp\;&nbsp\;&nbsp\;&nbsp\;&nbsp\;&nbsp\;&nbsp\;&nbsp\;&nbsp\;&nbsp\;&nbsp\;&nbsp\;&nbsp\;&nbsp\;&nbsp\;&nbsp\;&nbsp\;&nbsp\;&nbsp\;&nbsp\;&nbsp\;&nbsp\;&nbsp\;&nbsp\;&nbsp\;&nbsp\;&nbsp\;&nbsp\;&nbsp\;&nbsp\;&nbsp\;&nbsp\;&nbsp\;&nbsp\;&nbsp\;&nbsp\;&nbsp\;&nbsp\;&nbsp\;&nbsp\;&nbsp\;&nbsp\;&nbsp\;Beef Short Ribs</span><br />\n<span style="font-size: 10pt\; line-height: 14.2667px\; font-family: serif\; color: rgb(5\, 5\, 5)\;"><span style="background-image: initial\; background-position: initial\; background-size: initial\; background-repeat: initial\;">&nbsp\;&nbsp\;&nbsp\;&nbsp\;&nbsp\;&nbsp\;&nbsp\;&nbsp\;&nbsp\;&nbsp\;&nbsp\;&nbsp\;&nbsp\;&nbsp\;&nbsp\;&nbsp\; Chicken Pot Pie &nbsp\;&nbsp\;&nbsp\;&nbsp\;&nbsp\;&nbsp\;&nbsp\;&nbsp\;&nbsp\;&nbsp\;&nbsp\;&nbsp\;&nbsp\;&nbsp\;&nbsp\;&nbsp\;&nbsp\;&nbsp\;&nbsp\;&nbsp\;&nbsp\;&nbsp\;&nbsp\;&nbsp\;&nbsp\;&nbsp\;&nbsp\;&nbsp\;&nbsp\;&nbsp\;&nbsp\;&nbsp\;&nbsp\;&nbsp\;</span>&nbsp\;&nbsp\;&nbsp\;&nbsp\;&nbsp\;&nbsp\;&nbsp\;&nbsp\;&nbsp\;&nbsp\;&nbsp\;<span style="background-image: initial\; background-position: initial\; background-size: initial\; background-repeat: initial\;">Coconut Shrimp</span><br />\n<span style="background-image: initial\; background-position: initial\; background-size: initial\; background-repeat: initial\;">All served with House Salad\, Warm Bread</span>&nbsp\;and&nbsp\;<span style="background-image: initial\; background-position: initial\; background-size: initial\; background-repeat: initial\;">Chef&rsquo\;s Choice Dessert\,&nbsp\;</span></span><span style="font-size: 10pt\; line-height: 14.2667px\; font-family: serif\;">Coffee\, Iced Tea and Soft Drinks</span></p>\n</div>\n\n<p align="center" class="yiv3020193713MsoNormal" style="color: rgb(29\, 34\, 40)\; text-align: center\; margin: 0in 0in 8pt\; line-height: 15.6933px\; font-size: 11pt\; font-family: Calibri\, sans-serif\;"><b><span style="font-size: 10pt\; line-height: 14.2667px\; font-family: serif\;">&nbsp\; Alcoholic Beverages are not included but can be purchased at the event.</span></b></p>\n\n<p align="center" class="yiv3020193713MsoNormal" style="color: rgb(29\, 34\, 40)\; margin: 0in\; text-align: center\; line-height: normal\; background-image: initial\; background-position: initial\; background-size: initial\; background-repeat: initial\; font-size: 11pt\; font-family: Calibri\, sans-serif\;"><b><span style="font-size: 12pt\; font-family: serif\; color: black\;">Ticket Price:</span></b><b><span style="font-size: 10pt\; font-family: serif\; color: black\;">&nbsp\; $100.00 for the evening.&nbsp\; Tickets are NOT confirmed until payment has been received.&nbsp\; Payment is due within 3 days of reservation or your seat will be released.</span></b><span style="font-size: 10pt\; font-family: serif\; color: black\;">&nbsp\; Seating is limited.</span></p>\n\n<p class="yiv3020193713MsoNormal" style="color: rgb(29\, 34\, 40)\; margin: 0in\; line-height: normal\; background-image: initial\; background-position: initial\; background-size: initial\; background-repeat: initial\; font-size: 11pt\; font-family: Calibri\, sans-serif\;"><b><span style="font-size: 10pt\; font-family: serif\; color: black\;">&nbsp\;&nbsp\;&nbsp\;&nbsp\;&nbsp\;&nbsp\;&nbsp\;&nbsp\;&nbsp\;&nbsp\;&nbsp\;&nbsp\;&nbsp\;&nbsp\;&nbsp\;&nbsp\;&nbsp\;&nbsp\;&nbsp\;&nbsp\;&nbsp\;&nbsp\;&nbsp\;&nbsp\;&nbsp\;&nbsp\;&nbsp\;&nbsp\;&nbsp\;&nbsp\;&nbsp\;&nbsp\;&nbsp\;&nbsp\;&nbsp\;</span></b></p>\n\n<p align="center" class="yiv3020193713MsoNormal" style="color: rgb(29\, 34\, 40)\; margin: 0in\; text-align: center\; line-height: normal\; background-image: initial\; background-position: initial\; background-size: initial\; background-repeat: initial\; font-size: 11pt\; font-family: Calibri\, sans-serif\;"><b><span style="font-size: 12pt\; font-family: serif\; color: black\;">Tickets are by PREPAID reservation only</span></b><span style="font-size: 12pt\; font-family: serif\; color: black\;">!&nbsp\; No payment will be accepted at the door!</span></p>\n\n<p class="yiv3020193713MsoNormal" style="color: rgb(29\, 34\, 40)\; margin: 0in\; line-height: normal\; background-image: initial\; background-position: initial\; background-size: initial\; background-repeat: initial\; font-size: 11pt\; font-family: Calibri\, sans-serif\;"><span style="font-size: 10pt\; font-family: serif\; color: black\;">&nbsp\;</span></p>\n\n<p class="yiv3020193713MsoNormal" style="color: rgb(29\, 34\, 40)\; margin: 0in\; line-height: normal\; background-image: initial\; background-position: initial\; background-size: initial\; background-repeat: initial\; font-size: 11pt\; font-family: Calibri\, sans-serif\;"><b><span style="font-size: 12pt\; font-family: serif\; color: black\; background-image: initial\; background-position: initial\; background-size: initial\; background-repeat: initial\;">Payment</span></b><span style="font-size: 10pt\; font-family: serif\; color: black\; background-image: initial\; background-position: initial\; background-size: initial\; background-repeat: initial\;">&nbsp\;can be made by using the Venmo\, made payable to Teresa Kociolek (0752).</span><span style="font-size: 10pt\; font-family: serif\; color: black\;">&nbsp\; Tickets available on Eventbrite if you would like to pay by credit card.&nbsp\; If you would prefer to pay by Zelle or another method\, please email us at&nbsp\;</span><span style="color: black\;"><a href="mailto:readingswithterry@gmail.com" rel="nofollow noopener noreferrer" style="color: rgb(5\, 99\, 193)\;" target="_blank" ymailto="mailto:readingswithterry@gmail.com"><span style="font-size: 10pt\; font-family: serif\;">readingswithterry@gmail.com</span></a></span><span style="font-size: 10pt\; font-family: serif\; color: black\;">.&nbsp\;<b>&nbsp\;</b>Please include the names of those attending with you if you are purchasing more than one ticket!&nbsp\; Also\, include your entr&eacute\;e choice for dinner when making your ticket purchase.&nbsp\; Tickets are also available on Eventbrite&nbsp\;</span><a href="https://www.eventbrite.com/e/dinner-with-psychic-medium-terry-kociolek-tickets-165505333909?aff=ebdsoporgprofile" rel="nofollow noopener noreferrer" style="color: rgb(25\, 106\, 212)\; font-family: Arial\, Helvetica\, sans-serif\; font-size: small\;" target="_blank">Dinner with Psychic Medium Terry Kociolek Tickets\, Thu\, Sep 16\, 2021 at 6:00 PM | Eventbrite</a></p>\n\n<p class="yiv3020193713MsoNormal" style="color: rgb(29\, 34\, 40)\; margin: 0in\; line-height: normal\; background-image: initial\; background-position: initial\; background-size: initial\; background-repeat: initial\; font-size: 11pt\; font-family: Calibri\, sans-serif\;"><span style="font-size: 10pt\; font-family: serif\; color: black\;">&nbsp\;</span></p>\n\n<p class="yiv3020193713MsoNormal" style="color: rgb(29\, 34\, 40)\; margin: 0in\; line-height: normal\; background-image: initial\; background-position: initial\; background-size: initial\; background-repeat: initial\; font-size: 11pt\; font-family: Calibri\, sans-serif\;"><span style="font-size: 10pt\; font-family: serif\; color: black\;">Tickets are&nbsp\;<b>non-refundable</b>&nbsp\;but are transferable to another person of your choosing &ndash\; Please notify us if you are transferring your tickets.&nbsp\;</span></p>\n\n<p class="yiv3020193713MsoNormal" style="color: rgb(29\, 34\, 40)\; margin: 0in\; line-height: normal\; background-image: initial\; background-position: initial\; background-size: initial\; background-repeat: initial\; font-size: 11pt\; font-family: Calibri\, sans-serif\;"><b><span style="font-size: 10pt\; font-family: serif\; color: black\;">&nbsp\;</span></b></p>\n\n<p class="yiv3020193713MsoNormal" style="color: rgb(29\, 34\, 40)\; margin: 0in 0in 8pt\; line-height: 15.6933px\; font-size: 11pt\; font-family: Calibri\, sans-serif\;"><b><span style="font-size: 10pt\; line-height: 14.2667px\; font-family: serif\; color: black\;">Disclaimer:</span></b><span style="font-size: 10pt\; line-height: 14.2667px\; font-family: serif\; color: black\;">&nbsp\; We ask that you please understand that not everyone will receive a reading at this event\, it is all up to Spirit.&nbsp\; By booking and paying for your ticket\, you agree&nbsp\;</span><span style="font-size: 10pt\; line-height: 14.2667px\; font-family: serif\;">to not hold Terry Kociolek responsible for any information that is shared with you\, nor will hold her responsible for your reactions or actions based on the information shared.</span></p>\n\n<p align="center" class="yiv3020193713MsoNormal" style="color: rgb(29\, 34\, 40)\; text-align: center\; margin: 0in 0in 8pt\; line-height: 15.6933px\; font-size: 11pt\; font-family: Calibri\, sans-serif\;"><b><span style="font-size: 10pt\; line-height: 14.2667px\; font-family: serif\;">Doors open at 6:00 for registration\, followed by dinner and then Terry&rsquo\;s readings.</span></b></p>\n\n<p align="center" class="yiv3020193713MsoNormal" style="color: rgb(29\, 34\, 40)\; text-align: center\; line-height: normal\; background-image: initial\; background-position: initial\; background-size: initial\; background-repeat: initial\; margin: 0in 0in 8pt\; font-size: 11pt\; font-family: Calibri\, sans-serif\;"><b><span style="font-size: 10pt\; font-family: Arial\, sans-serif\; color: rgb(68\, 114\, 196)\;">The Galley Restaurant\, L.L.C.<br />\n410-200-8572<br />\n305 S Talbot Street<br />\nSaint Michaels\, MD 21664</span></b><br />\n<span style="color: black\;"><a href="mailto:eat@thegalleysaintmichaels.com" rel="nofollow noopener noreferrer" style="color: rgb(5\, 99\, 193)\;" target="_blank" ymailto="mailto:eat@thegalleysaintmichaels.com"><b><span style="font-size: 10pt\; font-family: Arial\, sans-serif\; color: rgb(68\, 114\, 196)\;">eat@thegalleysaintmichaels.com</span></b></a></span></p>\n
LOCATION:The Galley Restaurant 410-200-8572 305 S. Talbot Street Saint Michaels\, MD 21664
UID:e.212.20198
SEQUENCE:3
DTSTAMP:20260424T093252Z
URL:http://historic.stmichaelsmd.org/events/details/the-galley-psychic-medium-event-20198
END:VEVENT

END:VCALENDAR
