BEGIN:VCALENDAR
VERSION:2.0
PRODID:-//ChamberMaster//Event Calendar 2.0//EN
METHOD:PUBLISH
X-PUBLISHED-TTL:P3D
REFRESH-INTERVAL:P3D
CALSCALE:GREGORIAN
BEGIN:VEVENT
DTSTART;VALUE=DATE:20201203
DTEND;VALUE=DATE:20201206
TRANSP:TRANSPARENT
X-MICROSOFT-CDO-ALLDAYEVENT:TRUE
SUMMARY:The Galley Midnight Madness Events
DESCRIPTION:Join The Galley as they Celebrate the Holidays with events during the Midnight Madness weekend.\nGINGERBREAD HOUSE MAKING\n\nWe will be hosting an outdoor "gingerbread house" event for kids. This will be socially distanced and all COVID safety protocols will be followed. Children will have an opportunity to make gingerbread houses and sip on hot cocoa while parents get last minute shopping done around town or enjoy a cocktail or two with friends. Limited space and Reservations are required. 410-200-8572.\n\n \n\nBREAKFAST WITH SANTA - Currently Sold Out\n\nWe will be hosting a "Breakfast and Photo with Santa". This will take place  OUTDOORS. Children will be given an opportunity to meet Santa and take a photo. Children will be escorted from their table to meet Santa one at a time\, eliminating any lines or groups. All COVID rules will be followed. Reservations are required. 410-200-8572\n\n \n\nLETTERS TO SANTA\n\nWe have placed a "North Pole" mailbox at our front steps of the restaurant patio. Children are encouraged to drop their letters in the mailbox and be assured that all letters will be sent immediately to Santa at the North Pole! It's a great photo op too!\n\n \n\nMIDNIGHT MADNESS/SATURDAY NIGHT\n\nLive music from 5-8pm on our back patio. We are proud to present SIX PACK RODEO! \n\nDinner\, drinks and music fireside on our patio. Music will be limited to our dining guests ONLY and reservations are required. 410-200-8572\nTree displays during our Festival of Trees \n\nTree #1:\n\nCount the Ornament Tree\n\nGuests will be given the opportunity to guess the number of each ornament (i.e. how many snowman\, how many stars\, how many deer\, etc.) All correct guesses will go into a drawing to win a "Breakfast of the Month Club". The grand prize winner will receive breakfast for 2 people once a month.\n\n \n\nTree #2\n\nOyster Pearl Tree\n\nThis beauty is located in our "Reef Room". This tree is ALL about pearls and oysters! We love shiny things!\n\n \n\nThe Galley will also be serving warm drinks to go on their front porch.
X-ALT-DESC;FMTTYPE=text/html:<div>Join The Galley as they Celebrate the Holidays with events during the Midnight Madness weekend.\n<div><b>GINGERBREAD HOUSE MAKING</b></div>\n\n<div>We will be hosting an outdoor &ldquo\;gingerbread house&rdquo\; event for kids. This will be socially distanced and all COVID safety protocols will be followed. Children will have an opportunity to make gingerbread houses and sip on hot cocoa while parents get last minute shopping done around town or enjoy a cocktail or two with friends. Limited space and Reservations are required. 410-200-8572.</div>\n\n<div>&nbsp\;</div>\n\n<div><b>BREAKFAST WITH SANTA - Currently Sold Out</b></div>\n\n<div>We will be hosting a &ldquo\;Breakfast and Photo with Santa&rdquo\;. This will take place &nbsp\;OUTDOORS. Children will be given an opportunity to meet Santa and take a photo. Children will be escorted from their table to meet Santa one at a time\, eliminating any lines or groups. All COVID rules will be followed. Reservations are required. 410-200-8572</div>\n\n<div>&nbsp\;</div>\n\n<div><b>LETTERS TO SANTA</b></div>\n\n<div>We have placed a &ldquo\;North Pole&rdquo\; mailbox at our front steps of the restaurant patio. Children are encouraged to drop their letters in the mailbox and be assured that all letters will be sent immediately to Santa at the North Pole! It&rsquo\;s a great photo op too!</div>\n\n<div>&nbsp\;</div>\n\n<div><b>MIDNIGHT MADNESS/SATURDAY NIGHT</b></div>\n\n<div>Live music from 5-8pm on our back patio. We are proud to present<b>&nbsp\;SIX PACK RODEO!&nbsp\;</b></div>\n\n<div>Dinner\, drinks and music fireside on our patio. Music will be limited to our dining guests ONLY and reservations are required. 410-200-8572</div>\nTree displays during our Festival of Trees&nbsp\;<br />\nTree #1:</div>\n\n<div><b><u>Count the Ornament Tree</u></b></div>\n\n<div>Guests will be given the opportunity to guess the number of each ornament (i.e. how many snowman\, how many stars\, how many deer\, etc.) All correct guesses will go into a drawing to win a &ldquo\;Breakfast of the Month Club&rdquo\;. The grand prize winner will receive breakfast for 2 people once a month.</div>\n\n<div>&nbsp\;</div>\n\n<div>Tree #2</div>\n\n<div><b><u>Oyster Pearl Tree</u></b></div>\n\n<div>This beauty is located in our &ldquo\;Reef Room&rdquo\;. This tree is ALL about pearls and oysters! We love shiny things!</div>\n\n<div>&nbsp\;</div>\n\n<div>The Galley&nbsp\;will also be serving warm drinks to go on their&nbsp\;front porch.&nbsp\;</div>\n\n<div>&nbsp\;</div>\n
LOCATION:
UID:e.212.19446
SEQUENCE:3
DTSTAMP:20260424T232548Z
URL:http://historic.stmichaelsmd.org/events/details/the-galley-midnight-madness-events-19446
END:VEVENT

END:VCALENDAR
