BEGIN:VCALENDAR
VERSION:2.0
PRODID:-//ChamberMaster//Event Calendar 2.0//EN
METHOD:PUBLISH
X-PUBLISHED-TTL:P3D
REFRESH-INTERVAL:P3D
CALSCALE:GREGORIAN
BEGIN:VEVENT
DTSTART:20191123T150000Z
DTEND:20191123T160000Z
X-MICROSOFT-CDO-ALLDAYEVENT:FALSE
SUMMARY:Thanksgiving Parade of Classic Cars
DESCRIPTION:The Classic Motor Museum of St. Michaels will host the 6th Annual Holiday Parade on November 23rd\, 2019 at 10 a.m. To register-your car\, contact the museum by phone: 410-745-8979\, email: classicmotormuseum@gmail.com\, or register online at: classicmotormuseum.org. Registration is free\, but space is limited\, so register early.\n\nCars will begin to line up at 9 a.m. on Rt. 33 at the Ballfield/Inn at Perry Cabin. The parade will proceed through town to the Classic Motor Museum at 102 E. Marengo Street. The public is invited to the Museum after the parade for hot chili and to view the entrants.
X-ALT-DESC;FMTTYPE=text/html:<p style="margin: 0px 0px 10px\; padding: 0px 0px 0.5em\; font-family: georgia\; font-size: 17px\; line-height: 20.4px\; color: rgb(32\, 28\, 87)\;">The Classic Motor Museum of St. Michaels will host the 6th Annual Holiday Parade on November 23rd\, 2019 at 10 a.m. To register-your car\, contact the museum by phone: 410-745-8979\, email:&nbsp\;<a href="mailto:classicmotormuseum@gmail.com" rel="noopener noreferrer" style="margin: 0px\; padding: 0px\; color: rgb(35\, 103\, 162)\; outline: 0px\; text-decoration-line: none\; font-family: roboto\, georgia\, arial\;" target="_blank">classicmotormuseum@gmail.com</a>\, or register online at:&nbsp\;<a href="http://classicmotormuseum.org/" rel="noopener noreferrer" style="margin: 0px\; padding: 0px\; color: rgb(35\, 103\, 162)\; outline: 0px\; text-decoration-line: none\; font-family: roboto\, georgia\, arial\;" target="_blank">classicmotormuseum.org</a>. Registration is free\, but space is limited\, so register early.</p>\n\n<p style="margin: 0px 0px 10px\; padding: 0px 0px 0.5em\; font-family: georgia\; font-size: 17px\; line-height: 20.4px\; color: rgb(32\, 28\, 87)\;">Cars will begin to line up at 9 a.m. on Rt. 33 at the Ballfield/Inn at Perry Cabin. The parade will proceed through town to the Classic Motor Museum at 102 E. Marengo Street. The public is invited to the Museum after the parade for hot chili and to view the entrants.</p>\n
LOCATION:The parade will proceed through town to the Classic Motor Museum at 102 E. Marengo Street. The public is invited to the Museum after the parade for hot chili and to view the entrants.
UID:e.212.19357
SEQUENCE:3
DTSTAMP:20260425T200811Z
URL:http://historic.stmichaelsmd.org/events/details/thanksgiving-parade-of-classic-cars-19357
END:VEVENT

END:VCALENDAR
