BEGIN:VCALENDAR
VERSION:2.0
PRODID:-//ChamberMaster//Event Calendar 2.0//EN
METHOD:PUBLISH
X-PUBLISHED-TTL:P3D
REFRESH-INTERVAL:P3D
CALSCALE:GREGORIAN
BEGIN:VEVENT
DTSTART:20250207T230000Z
DTEND:20250208T013000Z
X-MICROSOFT-CDO-ALLDAYEVENT:FALSE
SUMMARY:Tequila Tango: Bites & Flights - Casa Amigos & Eight Tequila
DESCRIPTION:Tequila Tango: Bites & Flights\n\nIndulge in an evening of luxury and flavor at San Miguels' Tequila Tasting Event\, featuring premium selections from Casamigos & Eight Tequila. Savor expertly paired bites alongside these world-class tequilas in a vibrant and festive atmosphere. Perfect for tequila enthusiasts and food lovers alike\, this exclusive event promises an unforgettable experience. Don't miss out   secure your tickets today!
X-ALT-DESC;FMTTYPE=text/html:<span style="font-size:18px"><span style="color:#FF0000"><strong>Tequila Tango: Bites &amp\; Flights</strong></span></span><br />\nIndulge in an evening of luxury and flavor at San Miguels&#39\; <strong>Tequila Tasting Event</strong>\, featuring premium selections from <span style="font-size:14px"><em><strong><span style="font-size:18px"><span style="color:#FF0000">Casamigos &amp\; Eight Tequila</span></span>.</strong></em></span> Savor expertly paired bites alongside these world-class tequilas in a vibrant and festive atmosphere. Perfect for tequila enthusiasts and food lovers alike\, this exclusive event promises an unforgettable experience. Don&rsquo\;t miss out &ndash\; secure your tickets today!
LOCATION:San Miguels Mexican Food 100 S. Talbot Street St. Michaels\, MD 21663 410-745-8955
UID:e.212.33705
SEQUENCE:3
DTSTAMP:20260421T132749Z
URL:http://historic.stmichaelsmd.org/events/details/tequila-tango-bites-flights-33705
END:VEVENT

END:VCALENDAR
