BEGIN:VCALENDAR
VERSION:2.0
PRODID:-//ChamberMaster//Event Calendar 2.0//EN
METHOD:PUBLISH
X-PUBLISHED-TTL:P3D
REFRESH-INTERVAL:P3D
CALSCALE:GREGORIAN
BEGIN:VEVENT
DTSTART;VALUE=DATE:20230902
DTEND;VALUE=DATE:20230903
TRANSP:TRANSPARENT
X-MICROSOFT-CDO-ALLDAYEVENT:TRUE
SUMMARY:Talbot Thrive 5k Fun Run/Walk with St. Michaels Running Company
DESCRIPTION:Sign Up Here!\n\n\n\nJoin St. Michaels Running Company for a Charity 5k FUN RUN/WALK on the St. Michaels Nature Trail at 9am on 9/2/2023. Proceeds will benefit Talbot Thrive\, a new non-profit dedicated to promoting healthy and safe outdoor mobility for everyone living\, working and visiting Talbot County\, Maryland. The untimed fun run/walk will start and finish at our store\, and take you on a beautiful tour of the St. Michaels Nature Trail. Participants will receive a t-shirt\, post-race snacks\, and 20% off at St. Michaels Running Company on the day of the event. \n\n\n\nSign Up Here!
X-ALT-DESC;FMTTYPE=text/html:<a href="https://runsignup.com/Race/MD/SaintMichaels/TalbotThrive5kFunRunWalk" style="font-family: roboto\, &quot\;helvetica neue&quot\;\, helvetica\, sans-serif\; font-size: 15.4px\;">Sign Up Here!</a><br />\n<br />\n<span style="color:rgb(85\, 85\, 85)\; font-family:roboto\,helvetica neue\,helvetica\,sans-serif\; font-size:15.4px">Join St. Michaels Running Company for a Charity 5k FUN RUN/WALK on the St. Michaels Nature Trail at 9am on 9/2/2023. Proceeds will benefit Talbot Thrive\, a new non-profit dedicated to promoting healthy and safe outdoor mobility for everyone living\, working and visiting Talbot County\, Maryland. The untimed fun run/walk will start and finish at our store\, and take you on a beautiful tour of the St. Michaels Nature Trail. Participants will receive a t-shirt\, post-race snacks\, and 20% off at St. Michaels Running Company on the day of the event.&nbsp\;</span><br />\n<br />\n<a href="https://runsignup.com/Race/MD/SaintMichaels/TalbotThrive5kFunRunWalk" style="font-family: roboto\, &quot\;helvetica neue&quot\;\, helvetica\, sans-serif\; font-size: 15.4px\;">Sign Up Here!</a>
LOCATION:St. Michaels Running Company 205 S. Talbot Street Saint Michaels\, MD US 21663
UID:e.212.24044
SEQUENCE:3
DTSTAMP:20260422T175629Z
URL:http://historic.stmichaelsmd.org/events/details/talbot-thrive-5k-fun-run-walk-with-st-michaels-running-company-24044
END:VEVENT

END:VCALENDAR
