BEGIN:VCALENDAR
VERSION:2.0
PRODID:-//ChamberMaster//Event Calendar 2.0//EN
METHOD:PUBLISH
X-PUBLISHED-TTL:P3D
REFRESH-INTERVAL:P3D
CALSCALE:GREGORIAN
BEGIN:VEVENT
DTSTART:20240822T150000Z
DTEND:20240822T233000Z
X-MICROSOFT-CDO-ALLDAYEVENT:FALSE
SUMMARY:Tacos in a Box - Concert in the Park
DESCRIPTION:**Concert in the Park TACO in a BOX**\n\n\n\nMake your Thursday night concert experience even more enjoyable with our "Concert in the Park Taco Pack"! Perfect for enjoying great music and delicious food in the park\, this special includes everything you need for a delightful evening. Our Taco Pack includes:\n\n\n\n- **Taco Trio**: Choose any three Pancho Villa tacos (chicken\, beef\, pork\, or veggie) per person.\n\n- **Chips & Salsa**: A generous portion of our house-made chips and salsa.\n\n- **Street Corn Dip**: Grilled Mexican street corn (elote) for a tasty side.\n\n- **Churro Bites**: Sweet\, cinnamon-dusted churro bites for dessert.\n\n\n\n**Price**: $15 per person\n\n\n\nOrder ahead and pick up your Taco Pack from San Miguels\, then head to the park (or Community Center) for a night of live music and fantastic food. Call us at 410-745-8955 or visit our website www.sanmiguelsmd.com to place your order.\n\nEnjoy the concert!\n\n \n100 S. Talbot St\, Saint Michaels\, MD\n\n410-745-8955\n\nwww.sanmiguelsmd.com\n\nDine-In (air conditioned)\n\nTake-Out
X-ALT-DESC;FMTTYPE=text/html:<div>\n<div><span style="font-size:20px"><span style="color:#FF0000"><strong>**Concert in the Park TACO in a BOX**</strong></span></span></div>\n</div>\n\n<div>\n<div>Make your Thursday night concert experience even more enjoyable with our &quot\;<span style="color:#FFFF00"><span style="background-color:#FF8C00">Concert in the Park Taco Pack</span></span>&quot\;! Perfect for enjoying great music and delicious food in the park\, this special includes everything you need for a delightful evening. Our Taco Pack includes:</div>\n</div>\n\n<div>\n<div>- <strong>**Taco Trio**:</strong> Choose any three Pancho Villa tacos (chicken\, beef\, pork\, or veggie) per person.</div>\n\n<div>- *<strong>*Chips &amp\; Salsa**:</strong> A generous portion of our house-made chips and salsa.</div>\n\n<div>- *<strong>*Street Corn Dip*</strong>*: Grilled Mexican street corn (elote) for a tasty side.</div>\n\n<div>- <strong>**Churro Bites*</strong>*: Sweet\, cinnamon-dusted churro bites for dessert.</div>\n</div>\n\n<div>\n<div>**Price**: $15 per person</div>\n</div>\n\n<div>\n<div>Order ahead and pick up your Taco Pack from San Miguels\, then head to the park (or Community Center) for a night of live music and fantastic food. Call us at <span style="color:#FF0000"><span style="font-size:12px"><strong>410-745-8955</strong></span> </span>or visit our website <span style="font-family:inherit"><a class="x1i10hfl xjbqb8w x1ejq31n xd10rxx x1sy0etr x17r0tee x972fbf xcfux6l x1qhh985 xm0m39n x9f619 x1ypdohk xt0psk2 xe8uvvx xdj266r x11i5rnm xat24cr x1mh8g0r xexx8yu x4uap5 x18d9i69 xkhd6sd x16tdsg8 x1hl2dhg xggy1nq x1a2a7pz x1sur9pj xkrqix3 x1fey0fg" href="http://www.sanmiguelsmd.com" rel="nofollow noreferrer" style="color: var(--blue-link)\; cursor: pointer\; text-decoration-line: none\; list-style: none\; margin: 0px\; text-align: inherit\; border-style: none\; padding: 0px\; box-sizing: border-box\; border-width: 0px\; outline: none\; -webkit-tap-highlight-color: transparent\; touch-action: manipulation\; background-color: transparent\; display: inline\; font-family: inherit\;" tabindex="0" target="_blank">www.sanmiguelsmd.com</a></span> to place your order.</div>\n\n<div>Enjoy the concert!<br />\n&nbsp\;\n<p>100 S. Talbot St\, Saint Michaels\, MD</p>\n\n<p>410-745-8955</p>\n\n<p>www.sanmiguelsmd.com</p>\n\n<p>Dine-In (air conditioned)</p>\n\n<p>Take-Out</p>\n</div>\n</div>\n
LOCATION:SAN MIGUELS MEXICAN FOOD on the corner of Railroad Ave and Talbot St. 100 S. Talbot St\, Saint Michaels\, MD 410-745-8955 www.sanmiguelsmd.com Dine-In (air conditioned) Take-Out
UID:e.212.31405
SEQUENCE:3
DTSTAMP:20260421T232944Z
URL:http://historic.stmichaelsmd.org/events/details/tacos-in-a-box-concert-in-the-park-31405
END:VEVENT

END:VCALENDAR
