BEGIN:VCALENDAR
VERSION:2.0
PRODID:-//ChamberMaster//Event Calendar 2.0//EN
METHOD:PUBLISH
X-PUBLISHED-TTL:P3D
REFRESH-INTERVAL:P3D
CALSCALE:GREGORIAN
BEGIN:VEVENT
DTSTART:20240211T223000Z
DTEND:20240212T033000Z
X-MICROSOFT-CDO-ALLDAYEVENT:FALSE
SUMMARY:Superbowl Party at The Fool's Lantern
DESCRIPTION:Join us to watch Superbowl LVIII at The Fool's Lantern! We'll have food and drink specials from 5:30pm on along with a football pool with prizes. Reservations will be accepted starting at 5:30pm. Email thefoolslantern@gmail.com by Feb. 4th to reserve your seat!
X-ALT-DESC;FMTTYPE=text/html:Join us to watch Superbowl LVIII at The Fool&#39\;s Lantern! We&#39\;ll have food and drink specials from 5:30pm on along with a football pool with prizes. Reservations will be accepted starting at 5:30pm. Email thefoolslantern@gmail.com by Feb. 4th to reserve your seat!
LOCATION:The Fool's Lantern 310 S. Talbot Street St. Michaels\, MD 21663
UID:e.212.25021
SEQUENCE:3
DTSTAMP:20260422T091308Z
URL:http://historic.stmichaelsmd.org/events/details/superbowl-party-at-the-fool-s-lantern-25021
END:VEVENT

END:VCALENDAR
