BEGIN:VCALENDAR
VERSION:2.0
PRODID:-//ChamberMaster//Event Calendar 2.0//EN
METHOD:PUBLISH
X-PUBLISHED-TTL:P3D
REFRESH-INTERVAL:P3D
CALSCALE:GREGORIAN
BEGIN:VEVENT
DTSTART:20240225T173000Z
DTEND:20240225T223000Z
X-MICROSOFT-CDO-ALLDAYEVENT:FALSE
SUMMARY:Sunday Pranzo Wine & Food with Bajaj Adriano Moretti from Italy with Doria Wines
DESCRIPTION:Sunday Pranzo Wine & Food with Bajaj Adriano Moretti from Italy with Doria Wines\nJoin us for a traditional Sunday Pranzo Exclusive Wine & Food Event with Adriano Moretti of Bajaj Vineyards In Person from Piedmont\, Italy!\n\n2 Seatings: 12:30 PM and 3:30 PM\n\nCheck out our event here for more details and to reserve your seats:\n\nhttps://www.simpaticostmichaels.com/events-1/sunday-pranzo-wine-food-with-bajaj-adriano-moretti-from-italy-with-doria-wines
X-ALT-DESC;FMTTYPE=text/html:<h1 style="text-align:center">Sunday Pranzo Wine &amp\; Food with Bajaj Adriano Moretti from Italy with Doria Wines</h1>\n<span style="color:rgb(0\, 0\, 0)\; font-family:avenir-lt-w01_35-light1475496\,avenir-lt-w05_35-light\,sans-serif\; font-size:16px">Join us for a traditional Sunday Pranzo Exclusive Wine &amp\; Food Event with Adriano Moretti of Bajaj Vineyards In Person from Piedmont\, Italy!</span><br />\n<strong>2 Seatings: 12:30 PM and 3:30 PM<br />\nCheck out our event here for more details and to reserve your seats:</strong><br />\n<a href="https://www.simpaticostmichaels.com/events-1/sunday-pranzo-wine-food-with-bajaj-adriano-moretti-from-italy-with-doria-wines">https://www.simpaticostmichaels.com/events-1/sunday-pranzo-wine-food-with-bajaj-adriano-moretti-from-italy-with-doria-wines</a><br />\n&nbsp\;
LOCATION:Simpatico\, 104 Railroad Ave\, St Michaels\, MD 21663\, USA
UID:e.212.25229
SEQUENCE:3
DTSTAMP:20260422T091536Z
URL:http://historic.stmichaelsmd.org/events/details/sunday-pranzo-wine-food-with-bajaj-adriano-moretti-from-italy-with-doria-wines-25229
END:VEVENT

END:VCALENDAR
