BEGIN:VCALENDAR
VERSION:2.0
PRODID:-//ChamberMaster//Event Calendar 2.0//EN
METHOD:PUBLISH
X-PUBLISHED-TTL:P3D
REFRESH-INTERVAL:P3D
CALSCALE:GREGORIAN
BEGIN:VEVENT
DTSTART:20230906T200000Z
DTEND:20230906T220000Z
X-MICROSOFT-CDO-ALLDAYEVENT:FALSE
SUMMARY:Summer in Spain at The Old Brick Inn
DESCRIPTION:Mark your calendars for The Old Brick Inn's Summer in Spain wine tasting! Join us September 6th  as we share and learn about a variety of Spanish wines! Book two night at The Old Brick Inn between Tuesday the 5th and Thursday the 7th and the tasting is included! For our locals it's $75 per person.
X-ALT-DESC;FMTTYPE=text/html:<h2 style="text-align:center">Mark your calendars for The Old Brick Inn&#39\;s Summer in Spain wine tasting! Join us September 6th&nbsp\; as we share and learn about a variety of Spanish wines! Book two night at The Old Brick Inn between Tuesday the 5th and Thursday the 7th and the tasting is included! For our locals it&rsquo\;s $75 per person.&nbsp\;</h2>\n
LOCATION:
UID:e.212.24043
SEQUENCE:3
DTSTAMP:20260422T175729Z
URL:http://historic.stmichaelsmd.org/events/details/summer-in-spain-at-the-old-brick-inn-24043
END:VEVENT

END:VCALENDAR
