BEGIN:VCALENDAR
VERSION:2.0
PRODID:-//ChamberMaster//Event Calendar 2.0//EN
METHOD:PUBLISH
X-PUBLISHED-TTL:P3D
REFRESH-INTERVAL:P3D
CALSCALE:GREGORIAN
BEGIN:VEVENT
DTSTART:20230520T110000Z
DTEND:20230520T170000Z
X-MICROSOFT-CDO-ALLDAYEVENT:FALSE
SUMMARY:St. Michaels Running Festival May 20\, 2023
DESCRIPTION:Flattest\, Fastest 13.1 in the Mid Atlantic!\n\nThe St. Michaels Running Festival is one of the premier destination races in the Mid-Atlantic. Held in one of the oldest waterfront towns on the Chesapeake\, St. Michaels and the Bay Hundred runners will be treated to beautiful farm lands\, gorgeous water views and a rockin' after-party.   The St. Michaels Running Festival also has a family friendly 5K and a kid's 1K fun run. \n\nNot running? Come cheer on the runners/walkers then head into town to eat\, shop\, play and stay!\n\nThis event is Rain or Shine.\n\nFind out details on website www.runstm.com
X-ALT-DESC;FMTTYPE=text/html:<p><span style="font-size:14px\;"><span style="font-family:arial\;"><strong>Flattest\, Fastest 13.1 in the Mid Atlantic!</strong></span></span><br />\n<span style="box-sizing: border-box\; color: rgb(0\, 0\, 0)\;"><span style="box-sizing: border-box\; font-size: 14px\;"><span style="box-sizing: border-box\; font-family: tahoma\, geneva\, sans-serif\;"><span style="box-sizing: border-box\;"><span style="box-sizing: border-box\; font-family: sans-serif\;">The&nbsp\;<a href="http://www.runstm.com/" style="color: rgb(89\, 156\, 201)\; box-sizing: border-box\; background-color: transparent\; text-decoration-line: none\; word-break: break-word\;" target="_blank">St. Michaels Running Festival</a>&nbsp\;is one of the premier destination races in the Mid-Atlantic. Held&nbsp\;in one of the oldest waterfront towns on the Chesapeake\, St. Michaels and the Bay Hundred runners will be treated to beautiful farm lands\, gorgeous water views and a&nbsp\;rockin&#39\; after-party.</span>&nbsp\; &nbsp\;The St. Michaels Running Festival also has a family friendly 5K and a kid&#39\;s 1K fun run.&nbsp\;</span></span></span></span></p>\n\n<p style="box-sizing: border-box\; margin: 0px 0px 10px\; color: rgb(89\, 156\, 201)\; font-family: &quot\;Open Sans&quot\;\, sans-serif\; font-size: 16px\;"><span style="box-sizing: border-box\; color: rgb(0\, 0\, 0)\;"><span style="box-sizing: border-box\; font-size: 14px\;"><span style="box-sizing: border-box\; font-family: tahoma\, geneva\, sans-serif\;"><span style="box-sizing: border-box\;">Not running? Come cheer on the runners/walkers then head into town to eat\, shop\, play and stay!</span></span></span></span></p>\n\n<p style="box-sizing: border-box\; margin: 0px 0px 10px\; color: rgb(89\, 156\, 201)\; font-family: &quot\;Open Sans&quot\;\, sans-serif\; font-size: 16px\;"><span style="box-sizing: border-box\; color: rgb(0\, 0\, 0)\;"><span style="box-sizing: border-box\; font-size: 14px\;"><span style="box-sizing: border-box\; font-family: tahoma\, geneva\, sans-serif\;"><span style="box-sizing: border-box\;">This event is Rain or Shine.</span></span></span></span></p>\n\n<p><b>Find out details on website&nbsp\;</b><a href="http://www.runstm.com/" target="_blank">www.runstm.com</a></p>\n
LOCATION:All Throughout St Michaels and Bay Hundred Area!
UID:e.212.23329
SEQUENCE:3
DTSTAMP:20260423T035141Z
URL:http://historic.stmichaelsmd.org/events/details/st-michaels-running-festival-may-20-2023-23329
END:VEVENT

END:VCALENDAR
