BEGIN:VCALENDAR
VERSION:2.0
PRODID:-//ChamberMaster//Event Calendar 2.0//EN
METHOD:PUBLISH
X-PUBLISHED-TTL:P3D
REFRESH-INTERVAL:P3D
CALSCALE:GREGORIAN
BEGIN:VEVENT
DTSTART:20230603T160000Z
DTEND:20230603T200000Z
X-MICROSOFT-CDO-ALLDAYEVENT:FALSE
SUMMARY:St. Michaels Brewfest June 3\, 2023
DESCRIPTION:St. Michaels Brewfest\n\nSaturday\, June 3\, 2023 Noon - 4:00 p.m.\n\n \nSt. Michaels Brewfest is held the first Saturday in June in St. Michaels\, all within a very short walk of each other. You will get to see this charming town while drinking some of the best beers the region has to offer.   \n\n\n\nSt. Michaels Brewfest will feature over 70 beers including one-off's\, seasonals\, collaborations and casks from local\, regional & national breweries. This will all take place at three locations within easy walking distance in the heart of St Michaels\, the Old Mill behind Eastern Shore Brewing Co\, Foxy's and The Crab Claw Restaurant.\n\n\n\nAlong with great beer & ales\, there will be live music and delicious food.
X-ALT-DESC;FMTTYPE=text/html:<span style="font-size: 18px\;"><font color="#000000"><span new="" times=""><strong>St. Michaels&nbsp\;Brewfest<br />\nSaturday\, June 3\, 2023 Noon - 4:00 p.m</strong></span><span new="" times="">.</span></font></span><br />\n&nbsp\;\n<p style="margin: 0px 0px 10px\; padding: 0px 0px 0.5em\; color: rgb(32\, 28\, 87)\; line-height: 20.4px\; font-family: georgia\; font-size: 17px\;"><span style="font-family: arial\, helvetica\, sans-serif\;"><span style="color: rgb(0\, 0\, 0)\;"><span style="text-align: center\; font-size: 14px\;"><a href="http://www.stmichaelsbrewfest.com/" target="_blank">St. Michaels&nbsp\;Brewfest</a>&nbsp\;is held the first Saturday in June in St. Michaels\, all within a very short walk of each other. You will get to see this charming town while drinking some of the best beers the region has to offer. &nbsp\;&nbsp\;</span></span></span><br />\n<br />\n<span style="font-size: 14px\;"><span style="font-family: arial\;">St. Michaels&nbsp\;Brewfest&nbsp\;will feature over 70 beers including one-off&#39\;s\,&nbsp\;seasonals\, collaborations and casks from local\, regional &amp\; national breweries. This will all take place at three locations within easy walking distance in the heart of St Michaels\,&nbsp\;the Old Mill behind Eastern Shore Brewing Co\, Foxy&#39\;s and The Crab Claw Restaurant.<br />\n<br />\nAlong with great beer &amp\; ales\, there will be&nbsp\;live music and delicious food. </span></span></p>\n
LOCATION:More information here.
UID:e.212.23330
SEQUENCE:3
DTSTAMP:20260423T005910Z
URL:http://historic.stmichaelsmd.org/events/details/st-michaels-brewfest-june-3-2023-23330
END:VEVENT

END:VCALENDAR
