BEGIN:VCALENDAR
VERSION:2.0
PRODID:-//ChamberMaster//Event Calendar 2.0//EN
METHOD:PUBLISH
X-PUBLISHED-TTL:P3D
REFRESH-INTERVAL:P3D
CALSCALE:GREGORIAN
BEGIN:VEVENT
DTSTART:20220903T140000Z
DTEND:20220904T210000Z
X-MICROSOFT-CDO-ALLDAYEVENT:FALSE
SUMMARY:St. Michaels Art League Labor Day Show and Sale
DESCRIPTION:Come One\, Come All to the BIG TENT ART SALE sponsored by the St. Michaels Art League\, our biggest sale of the year\, Labor Day Weekend Saturday\, September 3\, 10-5 and Sunday September 4\, 12:30-5\, located in the heart of downtown at 304 S. Talbot Street on the lawn of the United Methodist Church.  \n\nIt is FREE and open to the public.\n\nParticipating in the event will be 30 plus artists\, including many award-winning artists\, that will be showing their work in various mediums depicting local scenes\, boating scenes\, still life and more.\n\nAdditionally\, many of the "Celebrate St. Michaels" banners that have hung on Talbot Street in previous years will be available for sale.  You may even find the original artwork of the banner available!  The "Celebrate St. Michaels" event is funded in part by a grant from the Talbot County Arts Council with revenue provided by the Maryland State Arts Council.
X-ALT-DESC;FMTTYPE=text/html:<p style="margin: 0px 0px 10px\; padding: 0px 0px 0.5em\; font-family: georgia\; font-size: 17px\; line-height: 20.4px\; color: rgb(32\, 28\, 87)\;"><span style="font-size:14px\;"><span style="font-family:arial\;">Come One\, Come All to the BIG TENT ART SALE sponsored by the St. Michaels Art League\, our biggest sale of the year\, Labor Day Weekend Saturday\, September 3\, 10-5 and Sunday September 4\, 12:30-5\, located in the heart of downtown at 304 S. Talbot Street on the lawn of the United Methodist Church. &nbsp\;<br />\nIt is FREE and open to the public.</span></span></p>\n\n<p open="" style="box-sizing: border-box\; overflow-wrap: break-word\; margin: 0px\; padding: 0px 0px 1em\; border: 0px\; outline: 0px\; font-size: 14.4px\; text-size-adjust: 100%\; vertical-align: baseline\; background-image: initial\; background-position: initial\; background-size: initial\; background-repeat: initial\; background-attachment: initial\; background-origin: initial\; background-clip: initial\; color: rgb(102\, 102\, 102)\; font-family: "><span style="font-family:arial\;">Participating in the event will be 30 plus artists\, including many award-winning artists\, that will be&nbsp\;showing their work in various mediums depicting local scenes\, boating scenes\, still life and more.</span></p>\n\n<p open="" style="box-sizing: border-box\; overflow-wrap: break-word\; margin: 0px\; padding: 0px 0px 1em\; border: 0px\; outline: 0px\; font-size: 14.4px\; text-size-adjust: 100%\; vertical-align: baseline\; background-image: initial\; background-position: initial\; background-size: initial\; background-repeat: initial\; background-attachment: initial\; background-origin: initial\; background-clip: initial\; color: rgb(102\, 102\, 102)\; font-family: "><span style="font-family:arial\;">Additionally\, many of the &ldquo\;Celebrate St. Michaels&rdquo\; banners that have hung on Talbot Street in&nbsp\;previous years&nbsp\;will be available for sale. &nbsp\;You may even find the original artwork of the banner available! &nbsp\;The &ldquo\;Celebrate St. Michaels&rdquo\; event is funded in part by a grant from the Talbot County Arts Council with revenue provided by the Maryland State Arts Council.</span></p>\n
LOCATION:St. Luke's Methodist Church\, 304 S.Talbot Street\, St. Michaels\, MD
UID:e.212.21714
SEQUENCE:3
DTSTAMP:20260423T152939Z
URL:http://historic.stmichaelsmd.org/events/details/st-michaels-art-league-labor-day-show-and-sale-21714
END:VEVENT

END:VCALENDAR
