BEGIN:VCALENDAR
VERSION:2.0
PRODID:-//ChamberMaster//Event Calendar 2.0//EN
METHOD:PUBLISH
X-PUBLISHED-TTL:P3D
REFRESH-INTERVAL:P3D
CALSCALE:GREGORIAN
BEGIN:VEVENT
DTSTART:20240608T160000Z
DTEND:20240608T220000Z
X-MICROSOFT-CDO-ALLDAYEVENT:FALSE
SUMMARY:Special Rose Education Class & Tasting with 4 Roses and Cooking Demo with Cristina Doria & Chef Dawn
DESCRIPTION:Special Rose Education Class & Tasting with 4 Roses and Cooking Demo with Cristina Doria & Chef Dawn\nLearn and taste Roses with Cristina Doria of Doria Wines! Cristina will talk about the wines & pairings while you enjoy two courses. Mangia!
X-ALT-DESC;FMTTYPE=text/html:<h1 style="text-align:center">Special Rose Education Class &amp\; Tasting with 4 Roses and Cooking Demo with Cristina Doria &amp\; Chef Dawn</h1>\n<span style="color:rgb(0\, 0\, 0)\; font-family:avenir-lt-w01_35-light1475496\,avenir-lt-w05_35-light\,sans-serif\; font-size:16px">Learn and taste Roses with Cristina Doria of Doria Wines! Cristina will talk about the wines &amp\; pairings while you enjoy two courses. Mangia!</span>
LOCATION:Simpatico\, Italy's Finest \, 104 Railroad Ave\, St Michaels\, MD 21663
UID:e.212.25707
SEQUENCE:3
DTSTAMP:20260422T025744Z
URL:http://historic.stmichaelsmd.org/events/details/special-rose-education-class-tasting-with-4-roses-and-cooking-demo-with-cristina-doria-chef-dawn-25707
END:VEVENT

END:VCALENDAR
