BEGIN:VCALENDAR
VERSION:2.0
PRODID:-//ChamberMaster//Event Calendar 2.0//EN
METHOD:PUBLISH
X-PUBLISHED-TTL:P3D
REFRESH-INTERVAL:P3D
CALSCALE:GREGORIAN
BEGIN:VEVENT
DTSTART:20221126T190000Z
DTEND:20221126T220000Z
X-MICROSOFT-CDO-ALLDAYEVENT:FALSE
SUMMARY:Small Projects workshop with Jen Wagner @ Foxy's!
DESCRIPTION:We're sure you're stuffed after the holiday! Come hang with us on the harbor\, let us do the cooking\, & make a mosaic! (the perfect Christmas gift)\n\nEnjoy an afternoon overlooking the beautiful St. Michaels Harbor while creating a unique\, one of a kind\, 7" x 9" stained glass mosaic. You select your own design while Jen provides the tools\, materials and guidance. No experience is necessary. This workshop sells out quickly\; you must be registered in advance to attend. Full menu & Bar will be available while you work!
X-ALT-DESC;FMTTYPE=text/html:<div>We&#39\;re sure you&#39\;re stuffed after the holiday! Come hang with us on the harbor\, let us do the cooking\, &amp\; make a mosaic! (the perfect Christmas gift)</div>\n\n<div>Enjoy an afternoon overlooking the beautiful St. Michaels Harbor while creating a unique\, one of a kind\, 7&quot\; x 9&quot\; stained glass mosaic. You select your own design while Jen provides the tools\, materials and guidance. No experience is necessary. This workshop sells out quickly\; you must be registered in advance to attend. Full menu &amp\; Bar will be available while you work!</div>\n
LOCATION:
UID:e.212.23320
SEQUENCE:3
DTSTAMP:20260423T120723Z
URL:http://historic.stmichaelsmd.org/events/details/small-projects-workshop-with-jen-wagner-foxy-s-23320
END:VEVENT

END:VCALENDAR
