BEGIN:VCALENDAR
VERSION:2.0
PRODID:-//ChamberMaster//Event Calendar 2.0//EN
METHOD:PUBLISH
X-PUBLISHED-TTL:P3D
REFRESH-INTERVAL:P3D
CALSCALE:GREGORIAN
BEGIN:VEVENT
DTSTART:20230304T170000Z
DTEND:20230304T220000Z
X-MICROSOFT-CDO-ALLDAYEVENT:FALSE
SUMMARY:Simpatico Wine & Chocolate Tasting Event
DESCRIPTION:Simpatico\, Italy's Finest ChocolateFest Venue will once again combine our love of wine and chocolate for our celebration "Amore al Cioccolato & Vino". We are also celebrating our No-Longer-Leaning Yellow Building\, built between 1896 and 1901\, and was originally an Oyster Saloon when it first opened in that time period. In honor of the heritage of our building\, we will be offering Oyster Crackers to cleanse the palate in between tastings and the Talbot Watermen Association will be selling oysters in our courtyard!\n\nFor a ticket price of $15 for our wine venue\, you will receive a tasting glass\, 12 assorted Italian Chocolates\, tastes of up to 16 wines per ticket to pair with the chocolates & oyster crackers for palate cleansing. \n\nSo stop in\, taste a few of our new wine offerings\, a few of our favorites from past festivals & dinners\, and enjoy our favorite Italian Chocolates at our "Amore al Cioccolato & Vino" venue! Special pricing for all wines and chocolates will be available during the weekend. Saluti!\n\nFor tickets\, sign up for the time slot you prefer\, starting at 12:00 PM through 5:00 PM in one hour time slots. We will be limiting attendees in each hour time slot to manage the flow and eliminate crowding at any one time. See you there!
X-ALT-DESC;FMTTYPE=text/html:<p><strong>Simpatico\, Italy&#39\;s Finest ChocolateFest Venue will once again combine our love of wine and chocolate for our celebration &quot\;Amore al Cioccolato &amp\; Vino&quot\;.</strong>&nbsp\;We are also celebrating our No-Longer-Leaning Yellow Building\, built between 1896 and 1901\, and was originally an Oyster Saloon when it first opened in that time period. In honor of the heritage of our building\, we will be offering Oyster Crackers to cleanse the palate in between tastings and the Talbot Watermen Association will be selling oysters in our courtyard!</p>\n\n<p><strong>For a ticket price of $15 for our wine venue\, you will receive a tasting glass\, 12 assorted Italian Chocolates\, tastes of up to 16 wines per ticket to pair with the chocolates &amp\; oyster crackers for palate cleansing.&nbsp\;</strong></p>\n\n<p>So stop in\, taste a few of our new wine offerings\, a few of our favorites from past festivals &amp\; dinners\, and enjoy our favorite Italian Chocolates at our &quot\;Amore al Cioccolato &amp\; Vino&quot\; venue! Special pricing for all wines and chocolates will be available during the weekend. Saluti!</p>\n\n<p>For tickets\, sign up for the time slot you prefer\, starting at 12:00 PM through 5:00 PM in one hour time slots. We will be limiting attendees in each hour time slot to manage the flow and eliminate crowding at any one time.&nbsp\;<strong>See you there!</strong></p>\n
LOCATION:104-106 Railroad Avenue\, St Michaels\, MD 21663
UID:e.212.23333
SEQUENCE:3
DTSTAMP:20260423T074448Z
URL:http://historic.stmichaelsmd.org/events/details/simpatico-wine-chocolate-tasting-event-03-04-2023-23333
END:VEVENT

END:VCALENDAR
