BEGIN:VCALENDAR
VERSION:2.0
PRODID:-//ChamberMaster//Event Calendar 2.0//EN
METHOD:PUBLISH
X-PUBLISHED-TTL:P3D
REFRESH-INTERVAL:P3D
CALSCALE:GREGORIAN
BEGIN:VEVENT
DTSTART:20240630T163000Z
DTEND:20240630T193000Z
X-MICROSOFT-CDO-ALLDAYEVENT:FALSE
SUMMARY:Simpatico Welcomes Giuliano Hazan for Cooking Classes
DESCRIPTION:Simpatico Welcomes Giuliano Hazan for Cooking Classes\nJoin us as we welcome Giuliano Hazan for 2 very special Food & Wine experiences as he cooks four courses and enjoys them with you in our intimate family Trattoria Simpatico! Limited Seating.
X-ALT-DESC;FMTTYPE=text/html:<h1 style="text-align:center">Simpatico Welcomes Giuliano Hazan for Cooking Classes</h1>\n<span style="color:rgb(0\, 0\, 0)\; font-family:avenir-lt-w01_35-light1475496\,avenir-lt-w05_35-light\,sans-serif\; font-size:16px">Join us as we welcome Giuliano Hazan for 2 very special Food &amp\; Wine experiences as he cooks four courses and enjoys them with you in our intimate family Trattoria Simpatico! Limited Seating.</span>
LOCATION:Simpatico\, Italy's Finest \, 104 Railroad Ave\, St Michaels\, MD 21663
UID:e.212.25710
SEQUENCE:3
DTSTAMP:20260422T041715Z
URL:http://historic.stmichaelsmd.org/events/details/simpatico-welcomes-giuliano-hazan-for-cooking-classes-06-30-2024-25710
END:VEVENT

END:VCALENDAR
