BEGIN:VCALENDAR
VERSION:2.0
PRODID:-//ChamberMaster//Event Calendar 2.0//EN
METHOD:PUBLISH
X-PUBLISHED-TTL:P3D
REFRESH-INTERVAL:P3D
CALSCALE:GREGORIAN
BEGIN:VEVENT
DTSTART:20240313T213000Z
DTEND:20240313T223000Z
X-MICROSOFT-CDO-ALLDAYEVENT:FALSE
SUMMARY:Simpatico Sipping Society - Tasting Wednesdays
DESCRIPTION:Simpatico Sipping Society - Tasting Wednesdays\nWelcome all Cabernet Lovers! Let us expand your palate with a blind tasting of Italian wines that we chose specifically for those who love Cabernet. Join Vincenzo (ENZO) Schiano of Impero Wines and Simpatico Founder\, Bobbi Parlett for a fun and educational tasting! You won't want to miss the chance to experience the wide range of Italian native grape varietals that will expand your oenophilic horizons. We will serve small nibbles along with 4 mystery wines which you will have to guess! Sure to be an enjoyable way to spend an hour with fellow Italian wine enthusiasts.  See you there! Salute!
X-ALT-DESC;FMTTYPE=text/html:<h1 style="text-align:center">Simpatico Sipping Society - Tasting Wednesdays</h1>\n<span style="color:rgb(0\, 0\, 0)\; font-family:avenir-lt-w01_35-light1475496\,avenir-lt-w05_35-light\,sans-serif\; font-size:16px">Welcome all Cabernet Lovers! Let us expand your palate with a blind tasting of Italian wines that we chose specifically for those who love Cabernet. Join Vincenzo (ENZO) Schiano of Impero Wines and Simpatico Founder\, Bobbi Parlett for a fun and educational tasting! You won&#39\;t want to miss the chance to experience the wide range of Italian native grape varietals that will expand your oenophilic horizons. We will serve small nibbles along with 4 mystery wines which you will have to guess! Sure to be an enjoyable way to spend an hour with fellow Italian wine enthusiasts. &nbsp\;See you there! Salute!</span>
LOCATION:Simpatico\, Italy's Finest \, 104 Railroad Ave\, St Michaels\, MD 21663
UID:e.212.25230
SEQUENCE:3
DTSTAMP:20260422T073938Z
URL:http://historic.stmichaelsmd.org/events/details/simpatico-sipping-society-tasting-wednesdays-25230
END:VEVENT

END:VCALENDAR
