BEGIN:VCALENDAR
VERSION:2.0
PRODID:-//ChamberMaster//Event Calendar 2.0//EN
METHOD:PUBLISH
X-PUBLISHED-TTL:P3D
REFRESH-INTERVAL:P3D
CALSCALE:GREGORIAN
BEGIN:VEVENT
DTSTART:20230914T220000Z
DTEND:20230915T010000Z
X-MICROSOFT-CDO-ALLDAYEVENT:FALSE
SUMMARY:Simpatico Sept 14th Casa E. di Mirafiore Wine Dinner at Scossa Restaurant & Lounge
DESCRIPTION:Please join us with our Italian co-hosts Casa E. di Mirafiore Winery Brand Ambassador Stefano Quaglia and Vincenzo Schiano of Impero Wines\, as we enjoy a delicious 5 course meal by Chef Giancarlo of Scossa with exclusive wines from Casa E. di Mirafiore Winery in Piedmont.  These wines are sure to impress at every course AND you have the option to purchase these 4 exclusive wines to take home with you! Can't wait to see you!
X-ALT-DESC;FMTTYPE=text/html:<strong>Please join us with our Italian co-hosts Casa E. di Mirafiore Winery Brand Ambassador Stefano Quaglia and Vincenzo Schiano of Impero Wines\, as we enjoy a delicious 5 course meal by Chef Giancarlo of Scossa with exclusive wines from&nbsp\;</strong><a href="https://www.mirafiore.it/en/" style="background: transparent\; border: 0px\; margin: 0px\; outline: 0px\; padding: 0px\; vertical-align: baseline\; cursor: pointer\; text-decoration-line: none\; color: rgb(var(--additionalButtonColor))\; font-family: avenir-lt-w01_35-light1475496\, avenir-lt-w05_35-light\, sans-serif\; font-size: 16px\;" target="_blank"><strong>Casa E. di Mirafiore Winery in Piedmont</strong></a><strong>. &nbsp\;These wines are sure to impress at every course AND you have the option to purchase these 4 exclusive wines to take home with you! Can&#39\;t wait to see you!</strong>
LOCATION:Scossa Restaurant & Lounge\, 8 N Washington St\, Easton\, MD 21601\, USA
UID:e.212.24048
SEQUENCE:3
DTSTAMP:20260422T175629Z
URL:http://historic.stmichaelsmd.org/events/details/simpatico-sept-14th-casa-e-di-mirafiore-wine-dinner-at-scossa-restaurant-lounge-24048
END:VEVENT

END:VCALENDAR
