BEGIN:VCALENDAR
VERSION:2.0
PRODID:-//ChamberMaster//Event Calendar 2.0//EN
METHOD:PUBLISH
X-PUBLISHED-TTL:P3D
REFRESH-INTERVAL:P3D
CALSCALE:GREGORIAN
BEGIN:VEVENT
DTSTART:20231111T170000Z
DTEND:20231111T220000Z
X-MICROSOFT-CDO-ALLDAYEVENT:FALSE
SUMMARY:Simpatico Sample Saturdays: Free Wine Tasting with Vincenzo Schiano of Impero Wines
DESCRIPTION:Join us with our Italian Wine Specialist\, Vincenzo "Enzo" Schiano of Impero Wines\, for a special wine tasting of some of our favorite wines in the shop from Tuscany\, Veneto\, Puglia and Lombardy!\n\nWhich one do you like best? Let us know!\n\nWe hope to see you at Simpatico to explore these amazing wines! Cin Cin!\n\nFor more info on the wines\, click here:\n\nhttps://www.simpaticostmichaels.com/events-1/sample-saturdays-free-wine-tasting-with-vincenzo-schiano-of-impero-wines-5
X-ALT-DESC;FMTTYPE=text/html:<div>Join us with our Italian Wine Specialist\, Vincenzo &quot\;Enzo&quot\; Schiano of Impero Wines\, for a special wine tasting of some of our favorite wines in the shop from Tuscany\, Veneto\, Puglia and Lombardy!</div>\n\n<div>Which one do you like best? Let us know!</div>\n\n<div>We hope to see you at Simpatico to explore these amazing wines! Cin Cin!</div>\n\n<div>For more info on the wines\, click here:<br />\n<a href="https://www.simpaticostmichaels.com/events-1/sample-saturdays-free-wine-tasting-with-vincenzo-schiano-of-impero-wines-5">https://www.simpaticostmichaels.com/events-1/sample-saturdays-free-wine-tasting-with-vincenzo-schiano-of-impero-wines-5</a></div>\n
LOCATION:Simpatico\, Italy's Finest 104 Railroad Ave St Michaels\, MD 21663
UID:e.212.24474
SEQUENCE:3
DTSTAMP:20260422T135654Z
URL:http://historic.stmichaelsmd.org/events/details/simpatico-sample-saturdays-free-wine-tasting-with-vincenzo-schiano-of-impero-wines-11-11-2023-24474
END:VEVENT

END:VCALENDAR
