BEGIN:VCALENDAR
VERSION:2.0
PRODID:-//ChamberMaster//Event Calendar 2.0//EN
METHOD:PUBLISH
X-PUBLISHED-TTL:P3D
REFRESH-INTERVAL:P3D
CALSCALE:GREGORIAN
BEGIN:VEVENT
DTSTART:20231028T160000Z
DTEND:20231028T210000Z
X-MICROSOFT-CDO-ALLDAYEVENT:FALSE
SUMMARY:Simpatico Sample Saturdays: Free Wine Tasting with Vincenzo Schiano of Impero Wines
DESCRIPTION:Simpatico Sample Saturdays: Free Wine Tasting with Vincenzo Schiano of Impero Wines\n\nExpand your palate! Free wine tasting with our Italian Wine Experts as we introduce to you to new Italian wines!
X-ALT-DESC;FMTTYPE=text/html:<span style="font-size:16px">Simpatico Sample Saturdays: Free Wine Tasting with Vincenzo Schiano of Impero Wines</span><br />\n<span style="color:rgb(0\, 0\, 0)\; font-family:avenir-lt-w01_35-light1475496\,avenir-lt-w05_35-light\,sans-serif\; font-size:16px">Expand your palate! Free wine tasting with our Italian Wine Experts as we introduce to you to new Italian wines!</span>
LOCATION:Simpatico Italy's Finest 104 Railroad Ave St Michaels\, MD 21663
UID:e.212.24468
SEQUENCE:3
DTSTAMP:20260422T152641Z
URL:http://historic.stmichaelsmd.org/events/details/simpatico-sample-saturdays-free-wine-tasting-with-vincenzo-schiano-of-impero-wines-10-28-2023-24468
END:VEVENT

END:VCALENDAR
