BEGIN:VCALENDAR
VERSION:2.0
PRODID:-//ChamberMaster//Event Calendar 2.0//EN
METHOD:PUBLISH
X-PUBLISHED-TTL:P3D
REFRESH-INTERVAL:P3D
CALSCALE:GREGORIAN
BEGIN:VEVENT
DTSTART:20230826T160000Z
DTEND:20230826T210000Z
X-MICROSOFT-CDO-ALLDAYEVENT:FALSE
SUMMARY:Simpatico Sample Saturdays: Free Wine Tasting with Russ Lorber of Wide Roots!
DESCRIPTION:Sample Saturdays: Free Wine Tasting with Russ Lorber of Wide Roots!
X-ALT-DESC;FMTTYPE=text/html:<h1 style="text-align:center">Sample Saturdays: Free Wine Tasting with Russ Lorber of Wide Roots!</h1>\n
LOCATION:Simpatico\, Italy's Finest 104 Railroad Ave\, St Michaels\, MD 21663
UID:e.212.24049
SEQUENCE:3
DTSTAMP:20260422T193926Z
URL:http://historic.stmichaelsmd.org/events/details/simpatico-sample-saturdays-free-wine-tasting-with-russ-lorber-of-wide-roots-24049
END:VEVENT

END:VCALENDAR
