BEGIN:VCALENDAR
VERSION:2.0
PRODID:-//ChamberMaster//Event Calendar 2.0//EN
METHOD:PUBLISH
X-PUBLISHED-TTL:P3D
REFRESH-INTERVAL:P3D
CALSCALE:GREGORIAN
BEGIN:VEVENT
DTSTART:20231118T170000Z
DTEND:20231118T220000Z
X-MICROSOFT-CDO-ALLDAYEVENT:FALSE
SUMMARY:Simpatico Sample Saturdays: Free Wine Tasting with Russ Lorber of Wide Roots!
DESCRIPTION:Free Saturday Wine Tasting with Russ Lorber of Wide Roots Nov 18th 12-5pm\n\n?Join us with Russ for a special wine tasting! He will be offering some of his best Thanksgiving Pairing wines in the shop from Veneto\, Marche\, Sicily and Piedmont!
X-ALT-DESC;FMTTYPE=text/html:<p style="text-align:center"><a href="https://www.simpaticostmichaels.com/events-1/sample-saturdays-free-wine-tasting-with-russ-lorber-of-wide-roots-7" style="color: rgb(191\, 63\, 47)\; font-weight: bold\; font-size: 16px\; font-family: Tahoma\, Geneva\, sans-serif\;" target="_blank">Free Saturday Wine Tasting with Russ Lorber of Wide Roots Nov 18th 12-5pm</a></p>\n\n<p><a href="https://www.simpaticostmichaels.com/events-1/midnight-madness-wine-tasting-event-2022-12-03-12-00" style="color: rgb(0\, 26\, 129)\; font-weight: bold\; font-size: 16px\; font-family: Tahoma\, Geneva\, sans-serif\;" target="_blank">?</a><strong style="text-align:center">Join us with Russ for a special wine tasting!&nbsp\;</strong><strong style="text-align:center">He will be offering some of his best Thanksgiving Pairing wines in the shop from Veneto\, Marche\, Sicily and Piedmont!</strong></p>\n\n<p style="text-align:center">&nbsp\;</p>\n
LOCATION:Simpatico\, Italy's Finest 104 Railroad Ave St Michaels\, MD 21663
UID:e.212.24476
SEQUENCE:3
DTSTAMP:20260422T135536Z
URL:http://historic.stmichaelsmd.org/events/details/simpatico-sample-saturdays-free-wine-tasting-with-russ-lorber-of-wide-roots-11-18-2023-24476
END:VEVENT

END:VCALENDAR
