BEGIN:VCALENDAR
VERSION:2.0
PRODID:-//ChamberMaster//Event Calendar 2.0//EN
METHOD:PUBLISH
X-PUBLISHED-TTL:P3D
REFRESH-INTERVAL:P3D
CALSCALE:GREGORIAN
BEGIN:VEVENT
DTSTART:20240106T170000Z
DTEND:20240106T220000Z
X-MICROSOFT-CDO-ALLDAYEVENT:FALSE
SUMMARY:Simpatico Sample Saturdays: Free Wine Tasting with Resident Oenophile\, Linda Frey!
DESCRIPTION:Simpatico Sample Saturdays: Free Wine Tasting with Resident Oenophile\, Linda Frey!\n\n\n\nExpand your palate! Free wine tasting with our Italian Wine Experts as we introduce to you to new Italian wines!
X-ALT-DESC;FMTTYPE=text/html:<span style="font-size:16px">Simpatico Sample Saturdays: Free Wine Tasting with Resident Oenophile\, Linda Frey!</span><br />\n<br />\n<span style="color:rgb(0\, 0\, 0)\; font-family:avenir-lt-w01_35-light1475496\,avenir-lt-w05_35-light\,sans-serif\; font-size:16px">Expand your palate! Free wine tasting with our Italian Wine Experts as we introduce to you to new Italian wines!</span>
LOCATION:Simpatico | Italy's Finest 104 Railroad Ave\, St Michaels\, MD 21663
UID:e.212.25017
SEQUENCE:3
DTSTAMP:20260422T105907Z
URL:http://historic.stmichaelsmd.org/events/details/simpatico-sample-saturdays-free-wine-tasting-with-resident-oenophile-linda-frey-01-06-2024-25017
END:VEVENT

END:VCALENDAR
