BEGIN:VCALENDAR
VERSION:2.0
PRODID:-//ChamberMaster//Event Calendar 2.0//EN
METHOD:PUBLISH
X-PUBLISHED-TTL:P3D
REFRESH-INTERVAL:P3D
CALSCALE:GREGORIAN
BEGIN:VEVENT
DTSTART:20240210T170000Z
DTEND:20240210T220000Z
X-MICROSOFT-CDO-ALLDAYEVENT:FALSE
SUMMARY:Simpatico Sample Saturdays: Free Wine Tasting with Resident Oenophile!
DESCRIPTION:Simpatico Sample Saturdays: Free Wine Tasting with Resident Oenophile!\nAre you a lover of Italian wines? In addition to our complimentary daily wine tastings\, join us every Saturday as we introduce new wines to you from all over Italy. You will taste up to 3 wines that we will choose to offer to "expand your palate" and we will share food pairing ideas too! \n\nWe will be tasting some of the favorite wines from Valle D'Aosta\, Sicily and Piedmont!
X-ALT-DESC;FMTTYPE=text/html:Simpatico Sample Saturdays: Free Wine Tasting with Resident Oenophile!\n<p>Are you a lover of Italian wines? In addition to our complimentary daily wine tastings\, join us every Saturday as we introduce new wines to you from all over Italy. You will taste up to 3 wines that we will choose to offer to &quot\;expand your palate&quot\; and we will share food pairing ideas too!&nbsp\;</p>\n\n<p>We will be tasting some of the favorite wines from Valle D&#39\;Aosta\, Sicily and Piedmont!</p>\n
LOCATION:Simpatico 104 Railroad Ave\, St Michaels\, MD 21663\,
UID:e.212.25228
SEQUENCE:3
DTSTAMP:20260422T091434Z
URL:http://historic.stmichaelsmd.org/events/details/simpatico-sample-saturdays-free-wine-tasting-with-resident-oenophile-02-10-2024-25228
END:VEVENT

END:VCALENDAR
