BEGIN:VCALENDAR
VERSION:2.0
PRODID:-//ChamberMaster//Event Calendar 2.0//EN
METHOD:PUBLISH
X-PUBLISHED-TTL:P3D
REFRESH-INTERVAL:P3D
CALSCALE:GREGORIAN
BEGIN:VEVENT
DTSTART:20230916T160000Z
DTEND:20230916T210000Z
X-MICROSOFT-CDO-ALLDAYEVENT:FALSE
SUMMARY:Simpatico Sample Saturdays: Free Wine Tasting with John “Amo” Amoroso of Winebow Imports
DESCRIPTION:Simpatico Sample Saturdays: Free Wine Tasting with John "Amo" Amoroso of Winebow Imports
X-ALT-DESC;FMTTYPE=text/html:Simpatico&nbsp\;<span style="text-align:center">Sample Saturdays: Free Wine Tasting with John &ldquo\;Amo&rdquo\; Amoroso of Winebow Imports</span>
LOCATION:Simpatico\, Italy's Finest 104 Railroad Ave\, St Michaels\, MD 21663
UID:e.212.24051
SEQUENCE:3
DTSTAMP:20260422T180039Z
URL:http://historic.stmichaelsmd.org/events/details/simpatico-sample-saturdays-free-wine-tasting-with-john-amo-amoroso-of-winebow-imports-24051
END:VEVENT

END:VCALENDAR
