BEGIN:VCALENDAR
VERSION:2.0
PRODID:-//ChamberMaster//Event Calendar 2.0//EN
METHOD:PUBLISH
X-PUBLISHED-TTL:P3D
REFRESH-INTERVAL:P3D
CALSCALE:GREGORIAN
BEGIN:VEVENT
DTSTART:20230923T160000Z
DTEND:20230923T210000Z
X-MICROSOFT-CDO-ALLDAYEVENT:FALSE
SUMMARY:Simpatico Sample Saturdays: Free Wine Tasting with Christina and Marco Doria of Doria Wines
DESCRIPTION:Sample Saturdays: Free Wine Tasting with Christina and Marco Doria of Doria Wines\nExpand your palate! Free wine tasting with our Italian Wine Experts as we introduce to you to new Italian wines!
X-ALT-DESC;FMTTYPE=text/html:<h1 style="text-align:center">Sample Saturdays: Free Wine Tasting with Christina and Marco Doria of Doria Wines</h1>\n<span style="color:rgb(0\, 0\, 0)\; font-family:avenir-lt-w01_35-light1475496\,avenir-lt-w05_35-light\,sans-serif\; font-size:16px">Expand your palate! Free wine tasting with our Italian Wine Experts as we introduce to you to new Italian wines!</span>
LOCATION:Simpatico 104 Railroad Ave St Michaels\, MD 21663
UID:e.212.24053
SEQUENCE:3
DTSTAMP:20260422T180048Z
URL:http://historic.stmichaelsmd.org/events/details/simpatico-sample-saturdays-free-wine-tasting-with-christina-and-marco-doria-of-doria-wines-24053
END:VEVENT

END:VCALENDAR
