BEGIN:VCALENDAR
VERSION:2.0
PRODID:-//ChamberMaster//Event Calendar 2.0//EN
METHOD:PUBLISH
X-PUBLISHED-TTL:P3D
REFRESH-INTERVAL:P3D
CALSCALE:GREGORIAN
BEGIN:VEVENT
DTSTART:20230819T160000Z
DTEND:20230819T200000Z
X-MICROSOFT-CDO-ALLDAYEVENT:FALSE
SUMMARY:Simpatico's Sample Saturdays: Free Wine Tasting with Vincenzo Schiano of Impero Wines!
DESCRIPTION:Are you a lover of Italian wines? In addition to our complimentary daily wine tastings\, join us every Saturday as we introduce new wines to you from all over Italy. You will taste up to 3 wines that we will choose to offer to "expand your palate" and we will share food pairing ideas too!
X-ALT-DESC;FMTTYPE=text/html:<span style="color:rgb(0\, 0\, 0)\; font-family:avenir-lt-w01_35-light1475496\,avenir-lt-w05_35-light\,sans-serif\; font-size:16px">Are you a lover of Italian wines? In addition to our complimentary daily wine tastings\, join us every Saturday as we introduce new wines to you from all over Italy. You will taste up to 3 wines that we will choose to offer to &quot\;expand your palate&quot\; and we will share food pairing ideas too!</span>
LOCATION:Simpatico Italy's Finest 104-106 Railroad Ave St Michaels\, MD 21663
UID:e.212.24046
SEQUENCE:3
DTSTAMP:20260422T193957Z
URL:http://historic.stmichaelsmd.org/events/details/simpatico-s-sample-saturdays-free-wine-tasting-with-vincenzo-schiano-of-impero-wines-24046
END:VEVENT

END:VCALENDAR
