BEGIN:VCALENDAR
VERSION:2.0
PRODID:-//ChamberMaster//Event Calendar 2.0//EN
METHOD:PUBLISH
X-PUBLISHED-TTL:P3D
REFRESH-INTERVAL:P3D
CALSCALE:GREGORIAN
BEGIN:VEVENT
DTSTART:20231202T170000Z
DTEND:20231203T033000Z
X-MICROSOFT-CDO-ALLDAYEVENT:FALSE
SUMMARY:Simpatico's Midnight Madness Wine Tasting Event
DESCRIPTION:Simpatico's Midnight Madness Wine Tasting Event\nExpand your palate all day on Saturday for St Michaels' Midnight Madness Event! Free wine tasting with our Italian Wine Experts as we introduce to you to new Italian wines!\n\nJoin us with Vincenzo "Enzo" Schiano of Impero Wines and Filippo Lapides of Enovation Brands in our shop for a special wine tasting!  Taste up to 3 wines and chat with our experts!
X-ALT-DESC;FMTTYPE=text/html:<h1 style="text-align:center">Simpatico&#39\;s Midnight Madness Wine Tasting Event</h1>\n<span style="color:rgb(0\, 0\, 0)\; font-family:avenir-lt-w01_35-light1475496\,avenir-lt-w05_35-light\,sans-serif\; font-size:16px">Expand your palate all day on Saturday for St Michaels&#39\; Midnight Madness Event! Free wine tasting with our Italian Wine Experts as we introduce to you to new Italian wines!</span><br />\n<strong>Join us with Vincenzo &quot\;Enzo&quot\; Schiano of Impero Wines and Filippo Lapides of Enovation Brands in our shop for a special wine tasting! &nbsp\;Taste up to 3 wines and chat with our experts!</strong><br />\n&nbsp\;
LOCATION:Simpatico Italy's Finest 104 Railroad Ave\, St Michaels\, MD 21663\, USA
UID:e.212.24604
SEQUENCE:3
DTSTAMP:20260422T122504Z
URL:http://historic.stmichaelsmd.org/events/details/simpatico-s-midnight-madness-wine-tasting-event-24604
END:VEVENT

END:VCALENDAR
