BEGIN:VCALENDAR
VERSION:2.0
PRODID:-//ChamberMaster//Event Calendar 2.0//EN
METHOD:PUBLISH
X-PUBLISHED-TTL:P3D
REFRESH-INTERVAL:P3D
CALSCALE:GREGORIAN
BEGIN:VEVENT
DTSTART:20231007T160000Z
DTEND:20231007T210000Z
X-MICROSOFT-CDO-ALLDAYEVENT:FALSE
SUMMARY:Simpatico's Italian Wine & Food Columbus Event
DESCRIPTION:Simpatico\, Italy's Finest Columbus Day Event will combine our love of Italian wines paired with an assortment of Italian food tastings (pastas with sauces\, antipasti & more) for a special Fall into St. Michaels experience. For a ticket price of $20 for our venue\, you will receive a tasting glass and up to 16 wine tastings paired with Pasta and sauces & more. Meet with wine experts and our local Watermen will be here shucking up Oysters for a generous donation!\n\n \n\nSpecial pricing for all wines will be available during the weekend. Saluti!\n\n \n\nFor tickets\, sign up for the time slot you prefer to begin your tastings\, starting at 12:00 PM through 5:00 PM in one hour time slots. See you there!\n\n\n \n\nTo purchase tickets\, go to Events on www.simpaticostmichaels.com or call 410-745-0345. Saluti!
X-ALT-DESC;FMTTYPE=text/html:<p style="background: transparent\; border: 0px\; margin: 0px\; outline: 0px\; padding: 0px\; vertical-align: baseline\; min-height: 1.5em\; color: rgb(0\, 0\, 0)\; font-family: avenir-lt-w01_35-light1475496\, avenir-lt-w05_35-light\, sans-serif\; font-size: 16px\;">Simpatico\, Italy&#39\;s Finest Columbus Day Event will combine our love of Italian wines paired with an assortment of Italian food tastings (pastas with sauces\, antipasti &amp\; more) for a special Fall into St. Michaels experience. For a ticket price of $20 for our venue\, you will receive a tasting glass and up to 16 wine tastings paired with Pasta and sauces &amp\; more. Meet with wine experts and our local Watermen will be here shucking up Oysters for a generous donation!</p>\n\n<p style="background: transparent\; border: 0px\; margin: 0px\; outline: 0px\; padding: 0px\; vertical-align: baseline\; min-height: 1.5em\; color: rgb(0\, 0\, 0)\; font-family: avenir-lt-w01_35-light1475496\, avenir-lt-w05_35-light\, sans-serif\; font-size: 16px\;">&nbsp\;</p>\n\n<p style="background: transparent\; border: 0px\; margin: 0px\; outline: 0px\; padding: 0px\; vertical-align: baseline\; min-height: 1.5em\; color: rgb(0\, 0\, 0)\; font-family: avenir-lt-w01_35-light1475496\, avenir-lt-w05_35-light\, sans-serif\; font-size: 16px\;">Special pricing for all wines will be available during the weekend. Saluti!</p>\n\n<p style="background: transparent\; border: 0px\; margin: 0px\; outline: 0px\; padding: 0px\; vertical-align: baseline\; min-height: 1.5em\; color: rgb(0\, 0\, 0)\; font-family: avenir-lt-w01_35-light1475496\, avenir-lt-w05_35-light\, sans-serif\; font-size: 16px\;">&nbsp\;</p>\n\n<p style="background: transparent\; border: 0px\; margin: 0px\; outline: 0px\; padding: 0px\; vertical-align: baseline\; min-height: 1.5em\; color: rgb(0\, 0\, 0)\; font-family: avenir-lt-w01_35-light1475496\, avenir-lt-w05_35-light\, sans-serif\; font-size: 16px\;">For tickets\, sign up for the time slot you prefer to begin your tastings\, starting at 12:00 PM through 5:00 PM in one hour time slots. See you there!</p>\n<br />\n&nbsp\;<br />\n<span style="font-family:palatino linotype\,serif"><span style="font-size:11.0pt">To purchase tickets\, go to Events on <u><span style="color:blue"><a href="http://www.simpaticostmichaels.com/">www.simpaticostmichaels.com</a>&nbsp\;</span></u>or call <a href="tel:410-745-0345">410-745-0345</a>. Saluti!</span></span><br />\n&nbsp\;
LOCATION:Simpatico\, Italy's Finest 104-106 Railroad Ave under Tents St. Michaels\, MD 21663
UID:e.212.24458
SEQUENCE:3
DTSTAMP:20260422T170203Z
URL:http://historic.stmichaelsmd.org/events/details/simpatico-s-italian-wine-food-columbus-event-24458
END:VEVENT

END:VCALENDAR
