BEGIN:VCALENDAR
VERSION:2.0
PRODID:-//ChamberMaster//Event Calendar 2.0//EN
METHOD:PUBLISH
X-PUBLISHED-TTL:P3D
REFRESH-INTERVAL:P3D
CALSCALE:GREGORIAN
BEGIN:VEVENT
DTSTART:20230308T230000Z
DTEND:20230309T020000Z
X-MICROSOFT-CDO-ALLDAYEVENT:FALSE
SUMMARY:Simpatico's Impero Wine Dinner at Scossa Restaurant & Lounge
DESCRIPTION:Please join us with our Italian co-hosts Davide Megna of Impero Wines and Pakravan-Papi Vineyard Owner\, Leopoldo Papi\, as we enjoy a delicious 5 course meal by Chef Giancarlo of Scossa with exclusive wines from Pakravan-Papi Vineyards of Tuscany.  These award-winning wines are sure to impress at every course! AND we will send you home with 4 bottles of these delicious wines to enjoy at your leisure.\n\n\n\nLimited Seats Available - Reserve Today at www.simpaticostmichaels.com/events.
X-ALT-DESC;FMTTYPE=text/html:<strong>Please join us with our Italian co-hosts Davide Megna of Impero Wines and Pakravan-Papi Vineyard Owner\, Leopoldo Papi\, as we enjoy a delicious 5 course meal by Chef Giancarlo of Scossa with exclusive wines from</strong>&nbsp\;<strong><span style="font-size:14px">Pakravan-Papi Vineyards</span>&nbsp\;of Tuscany. &nbsp\;These award-winning wines are sure to impress at every course! AND we will send you home with 4 bottles of these delicious wines to enjoy at your leisure.<br />\n<br />\nLimited Seats Available - Reserve Today at <a href="http://www.simpaticostmichaels.com/events">www.simpaticostmichaels.com/events</a>.</strong>
LOCATION:Scossa Restaurant & Lounge\, 8 N Washington St\, Easton\, MD 21601\, USA
UID:e.212.23335
SEQUENCE:3
DTSTAMP:20260423T074248Z
URL:http://historic.stmichaelsmd.org/events/details/simpatico-s-impero-wine-dinner-at-scossa-restaurant-lounge-23335
END:VEVENT

END:VCALENDAR
