BEGIN:VCALENDAR
VERSION:2.0
PRODID:-//ChamberMaster//Event Calendar 2.0//EN
METHOD:PUBLISH
X-PUBLISHED-TTL:P3D
REFRESH-INTERVAL:P3D
CALSCALE:GREGORIAN
BEGIN:VEVENT
DTSTART:20230522T220000Z
DTEND:20230523T010000Z
X-MICROSOFT-CDO-ALLDAYEVENT:FALSE
SUMMARY:Simpatico's Corte Alla Flora Wine Dinner at Scossa Restaurant & Lounge
DESCRIPTION:Simpatico's Corte Alla Flora Wine Dinner at Scossa Restaurant & Lounge\n\nMay 22nd 6pm\n\nPlease join us with our Italian co-host Corte Alla Flora Vineyard Owner\, Andrea Cragnotti\, and Siema Wines Portfolio Manager\, Chef Jackie Cipriano\, as we enjoy a delicious 5 course meal by Chef Giancarlo of Scossa with exclusive wines from Corte Alla Flora Vineyards of Montepulciano.  These wines are sure to impress at every course! AND we will send you home with 4 bottles of these delicious wines to enjoy at your leisure.\n\nWe count ourselves among the luckiest wine lovers to have joined TWO Zoom Wine Dinners with Andrea and Jackie and are so excited to enjoy their company IN PERSON at Scossa. This will be an experience not to be missed!
X-ALT-DESC;FMTTYPE=text/html:<p>Simpatico&#39\;s Corte Alla Flora Wine Dinner at Scossa Restaurant &amp\; Lounge<br />\n<strong>May 22nd 6pm</strong></p>\n\n<p><strong>Please join us with our Italian co-host Corte Alla Flora Vineyard Owner\, Andrea Cragnotti\, and Siema Wines Portfolio Manager\, Chef Jackie Cipriano\, as we enjoy a delicious 5 course meal by Chef Giancarlo of Scossa with exclusive wines from</strong><a href="https://www.pakravan-papi.it/en/" rel="noopener noreferrer noopener noreferrer" style="background: transparent\; border: 0px\; margin: 0px\; outline: 0px\; padding: 0px\; vertical-align: baseline\; cursor: pointer\; text-decoration-line: none\; color: rgb(226\, 112\, 90)\;" tabindex="0" target="_blank">&nbsp\;</a><a href="https://www.corteallaflora.com/en/home-en/" rel="noopener noreferrer noopener noreferrer" style="background: transparent\; border: 0px\; margin: 0px\; outline: 0px\; padding: 0px\; vertical-align: baseline\; cursor: pointer\; text-decoration-line: none\; color: rgb(226\, 112\, 90)\;" tabindex="0" target="_blank"><strong>Corte Alla Flora Vineyards of Montepulciano.</strong></a><strong>&nbsp\;&nbsp\;These wines are sure to impress at every course! AND we will send you home with 4 bottles of these delicious wines to enjoy at your leisure.</strong></p>\n\n<p><strong>We count ourselves among the luckiest wine lovers to have joined TWO Zoom Wine Dinners with Andrea and Jackie and are so excited to enjoy their company IN PERSON at Scossa. This will be an experience not to be missed!</strong></p>\n
LOCATION:Scossa Restaurant & Lounge\, 8 N Washington St\, Easton\, MD 21601\, USA
UID:e.212.23432
SEQUENCE:3
DTSTAMP:20260423T022255Z
URL:http://historic.stmichaelsmd.org/events/details/simpatico-s-corte-alla-flora-wine-dinner-at-scossa-restaurant-lounge-23432
END:VEVENT

END:VCALENDAR
