BEGIN:VCALENDAR
VERSION:2.0
PRODID:-//ChamberMaster//Event Calendar 2.0//EN
METHOD:PUBLISH
X-PUBLISHED-TTL:P3D
REFRESH-INTERVAL:P3D
CALSCALE:GREGORIAN
BEGIN:VEVENT
DTSTART;VALUE=DATE:20231206
DTEND;VALUE=DATE:20231207
TRANSP:TRANSPARENT
X-MICROSOFT-CDO-ALLDAYEVENT:TRUE
SUMMARY:Simpatico's Christmas in St Michaels Wine Tasting and Art Event
DESCRIPTION:Simpatico's Christmas in St Michaels Wine Tasting and Art Event\nExpand your palate Saturday AND Sunday for St Michaels' Christmas in St Michaels Event! Free wine tasting with our Italian Wine Experts as we introduce to you to new Italian wines! And Art and Jewelry by Ginda Simpson!
X-ALT-DESC;FMTTYPE=text/html:<h1 style="text-align:center">Simpatico&#39\;s Christmas in St Michaels Wine Tasting and Art Event</h1>\n<span style="color:rgb(0\, 0\, 0)\; font-family:avenir-lt-w01_35-light1475496\,avenir-lt-w05_35-light\,sans-serif\; font-size:16px">Expand your palate Saturday AND Sunday for St Michaels&#39\; Christmas in St Michaels Event! Free wine tasting with our Italian Wine Experts as we introduce to you to new Italian wines! And Art and Jewelry by Ginda Simpson!</span>
LOCATION:104 Railroad Ave\, St Michaels\, MD 21663
UID:e.212.24605
SEQUENCE:3
DTSTAMP:20260422T122707Z
URL:http://historic.stmichaelsmd.org/events/details/simpatico-s-christmas-in-st-michaels-wine-tasting-and-art-event-24605
END:VEVENT

END:VCALENDAR
