BEGIN:VCALENDAR
VERSION:2.0
PRODID:-//ChamberMaster//Event Calendar 2.0//EN
METHOD:PUBLISH
X-PUBLISHED-TTL:P3D
REFRESH-INTERVAL:P3D
CALSCALE:GREGORIAN
BEGIN:VEVENT
DTSTART;VALUE=DATE:20240525
DTEND;VALUE=DATE:20240527
TRANSP:TRANSPARENT
X-MICROSOFT-CDO-ALLDAYEVENT:TRUE
SUMMARY:Simpatico's 20th Birthday Celebration Event!
DESCRIPTION:Can you believe it? 20 years! Come and taste 20 wines from the 20 regions of Italy and Enjoy Authentic Italian Food!\n\n \n\nBuon Compleanno to Simpatico! Join us as we celebrate our 20th birthday with a special weekend-long event planned:\n\n\n	Add a Lunch Ticket to your order and choose an Italian Hoagie or Risotto with a glass of wine\, a $20 value for $15 when purchased online!\n	Trattoria Simpatico Restaurant in our original no longer leaning building - take a tour and check out our restaurant/event space!\n	Wine Tastings of 20 Italian wines from all 20 Regions of Italy!\n	Food Tastings of delicious Italian specialties!\n	Live Accordian Artist\, Sergio Fresca\, will be here Saturday playing all your favorite italian songs to dance to!\n	Simpatico Trivia Contest - Winner gets a Two Italian Dinners Gift Basket!\n	Bocce Ball on the lawn for kids of all ages!\n	Special discounts up to 15% on selected wines foods and gifts.\n\n\nJoin us for a special weekend as we celebrate All Things Italian! See you there! Saluti!
X-ALT-DESC;FMTTYPE=text/html:<div style="background:transparent\; border:0px\; padding:0px\; text-align:center">\n<p>Can you believe it? 20 years! Come and taste 20 wines from the 20 regions of Italy and Enjoy Authentic Italian Food!<br />\n&nbsp\;</p>\n\n<p><strong>Buon Compleanno to Simpatico!&nbsp\;</strong>Join us as we celebrate our 20th birthday with a special weekend-long event planned:</p>\n\n<ul>\n	<li>Add a&nbsp\;<strong>Lunch Ticket</strong>&nbsp\;to your order and choose an Italian Hoagie or Risotto with a glass of wine\, a $20 value for $15 when purchased online!</li>\n	<li><strong>Trattoria Simpatico</strong>&nbsp\;Restaurant in our original no longer leaning building - take a tour and check out our restaurant/event space!</li>\n	<li><strong>Wine Tastings of 20 Italian wines</strong>&nbsp\;from all 20 Regions of Italy!</li>\n	<li><strong>Food Tastings&nbsp\;</strong>of delicious Italian specialties!</li>\n	<li><strong>Live Accordian Artist\, Sergio Fresca</strong>\, will be here Saturday playing all your favorite italian songs to dance to!</li>\n	<li><strong>Simpatico Trivia Contest</strong>&nbsp\;- Winner gets a Two Italian Dinners Gift Basket!</li>\n	<li><strong>Bocce Ball</strong>&nbsp\;on the lawn for kids of all ages!</li>\n	<li><strong>Special discounts</strong>&nbsp\;up to 15% on selected wines foods and gifts.</li>\n</ul>\n\n<p><strong>Join us for a special weekend as we celebrate All Things Italian! See you there! Saluti!</strong></p>\n</div>\n
LOCATION:Simpatico Italy's Finest\, 104 Railroad Ave\, Saint Michaels\, M
UID:e.212.25645
SEQUENCE:3
DTSTAMP:20260422T041544Z
URL:http://historic.stmichaelsmd.org/events/details/simpatico-s-20th-birthday-celebration-event-25645
END:VEVENT

END:VCALENDAR
