BEGIN:VCALENDAR
VERSION:2.0
PRODID:-//ChamberMaster//Event Calendar 2.0//EN
METHOD:PUBLISH
X-PUBLISHED-TTL:P3D
REFRESH-INTERVAL:P3D
CALSCALE:GREGORIAN
BEGIN:VEVENT
DTSTART:20230702T160000Z
DTEND:20230702T210000Z
X-MICROSOFT-CDO-ALLDAYEVENT:FALSE
SUMMARY:Simpatico Free Sunday Wine Tasting with Resident Oenophile\, Linda Frey!
DESCRIPTION:Free Sunday Wine Tasting with Resident Oenophile\, Linda Frey!
X-ALT-DESC;FMTTYPE=text/html:<h1 style="text-align:center">Free Sunday Wine Tasting with Resident Oenophile\, Linda Frey!</h1>\n
LOCATION:104 Railroad Ave\, St Michaels\, MD 21663
UID:e.212.24031
SEQUENCE:3
DTSTAMP:20260423T010359Z
URL:http://historic.stmichaelsmd.org/events/details/simpatico-free-sunday-wine-tasting-with-resident-oenophile-linda-frey-24031
END:VEVENT

END:VCALENDAR
