BEGIN:VCALENDAR
VERSION:2.0
PRODID:-//ChamberMaster//Event Calendar 2.0//EN
METHOD:PUBLISH
X-PUBLISHED-TTL:P3D
REFRESH-INTERVAL:P3D
CALSCALE:GREGORIAN
BEGIN:VEVENT
DTSTART:20230909T160000Z
DTEND:20230909T210000Z
X-MICROSOFT-CDO-ALLDAYEVENT:FALSE
SUMMARY:Simpatico Free Saturday Wine Tasting with Luigi Colombo of Cantiniere Importers
DESCRIPTION:Free Saturday Wine Tasting with Luigi Colombo of Cantiniere Importers\, Sep 9th 12-5pm!\n\nJoin us with Luigi for a special wine tasting! \n\nLuigi will be offering some of his exclusive wines in the shop from Calabria\, Campania and Puglia!
X-ALT-DESC;FMTTYPE=text/html:<p style="text-align:center"><a href="https://www.simpaticostmichaels.com/events-1/sample-saturdays-free-wine-tasting-with-luigi-colombo-of-cantiniere-importers" style="color: rgb(191\, 63\, 47)\; font-weight: bold\; font-size: 16px\; font-family: Tahoma\, Geneva\, sans-serif\;" target="_blank">Free Saturday Wine Tasting with Luigi Colombo of Cantiniere Importers\, Sep 9th 12-5pm!</a></p>\n\n<p style="text-align:center"><strong>Join us with Luigi for a special wine tasting! </strong></p>\n\n<p style="text-align:center"><strong>Luigi will be offering some of his exclusive wines in the shop from Calabria\, Campania and Puglia!</strong><strong> </strong></p>\n
LOCATION:Simpatico 104 Railroad Ave St Michaels\, MD 21663
UID:e.212.24050
SEQUENCE:3
DTSTAMP:20260422T180124Z
URL:http://historic.stmichaelsmd.org/events/details/simpatico-free-saturday-wine-tasting-with-luigi-colombo-of-cantiniere-importers-24050
END:VEVENT

END:VCALENDAR
