BEGIN:VCALENDAR
VERSION:2.0
PRODID:-//ChamberMaster//Event Calendar 2.0//EN
METHOD:PUBLISH
X-PUBLISHED-TTL:P3D
REFRESH-INTERVAL:P3D
CALSCALE:GREGORIAN
BEGIN:VEVENT
DTSTART:20231217T160000Z
DTEND:20231217T190000Z
X-MICROSOFT-CDO-ALLDAYEVENT:FALSE
SUMMARY:Santa Brunch at The Oaks
DESCRIPTION:Santa Brunch at The Oaks Waterfront Hotel.\n\nJoin us for a buffet-style brunch & photo opportunities with Santa and Mrs. Claus.\n\nDecorate your own Christmas Cookie with Santa's Elf.
X-ALT-DESC;FMTTYPE=text/html:Santa Brunch at The Oaks Waterfront Hotel.<br />\nJoin us for a buffet-style brunch &amp\; photo opportunities with Santa and Mrs. Claus.<br />\nDecorate your own Christmas Cookie with Santa&#39\;s Elf.
LOCATION:The Oaks 25876 Royal Oak Road Royal Oak\, MD 21662
UID:e.212.24606
SEQUENCE:3
DTSTAMP:20260422T122645Z
URL:http://historic.stmichaelsmd.org/events/details/santa-brunch-at-the-oaks-24606
END:VEVENT

END:VCALENDAR
